BEGIN:VCALENDAR
VERSION:2.0
PRODID:-//Cámara de Comercio de Buenaventura - ECPv6.0.7.1//NONSGML v1.0//EN
CALSCALE:GREGORIAN
METHOD:PUBLISH
X-WR-CALNAME:Cámara de Comercio de Buenaventura
X-ORIGINAL-URL:https://web.ccbun.org
X-WR-CALDESC:Eventos para Cámara de Comercio de Buenaventura
REFRESH-INTERVAL;VALUE=DURATION:PT1H
X-Robots-Tag:noindex
X-PUBLISHED-TTL:PT1H
BEGIN:VTIMEZONE
TZID:America/Bogota
BEGIN:STANDARD
TZOFFSETFROM:-0500
TZOFFSETTO:-0500
TZNAME:-05
DTSTART:20240101T000000
END:STANDARD
END:VTIMEZONE
BEGIN:VEVENT
DTSTART;VALUE=DATE:20240301
DTEND;VALUE=DATE:20240331
DTSTAMP:20260423T231745
CREATED:20240305T060910Z
LAST-MODIFIED:20240305T060910Z
UID:1252-1709251200-1711843199@web.ccbun.org
SUMMARY:Presencia en redes sociales\, Curso virtual
DESCRIPTION:Lugar: Campus Virtual \nCosto: Gratuito \nIntensidad: 10 Hrs. \nHorario: Asincrónico \nlink: Incríbete aquí  \n  \nObjetivo: \n  \nGenera tu presencia en redes de manera estructurada para estar a nivel competitivo de las grandes empresas que tienen éxito en Internet \n  \nObjetivo Especifico: \n  \n\nConocer mis objetivos empresariales\nConocer mi segmento de clientes\nDefinir ¿Cómo monetizo?\nDefinir mi estrategia de mercadeo\nSeleccionar la redes en las que quiero incursionar\nDefinir los contenidos que voy a usar\nConstruir los contenidos definidos\nProgramar la publicación de contenidos\nAnalizar los resultados\n\n  \nPúblico \nPersonas naturales que ya tengan su negocio en redes sociales. \nPersonas que cuenten con una marca personal y que quieran tener o tengan presencia en redes sociales. \nUniversitarios que estén interesados en aprender buenas prácticas para tener presencia en redes sociales. \nProfesiones afines: comunicación social\, publicidad\, mercadeo. Sin embargo\, todas las personas que estén interesadas en aprender buenas prácticas para mejorar su presencia en redes sociales. \n  \n¿No sabes cómo inscribirte en la plataforma? \n  \nTranquilo\, Guíate con un video tutórela que te ayudara solo dale click en Video tutóreal  \n  \nMAS INFORMACIÓN
URL:https://web.ccbun.org/evento/presencia-en-redes-sociales-curso-virtual-2/
CATEGORIES:Capacitaciones,Virtual
ATTACH;FMTTYPE=image/jpeg:https://web.ccbun.org/wp-content/uploads/2024/03/Presencia_Redes_Marzo-2024.jpg
END:VEVENT
BEGIN:VEVENT
DTSTART;VALUE=DATE:20240301
DTEND;VALUE=DATE:20240331
DTSTAMP:20260423T231745
CREATED:20240305T061621Z
LAST-MODIFIED:20240305T061621Z
UID:1254-1709251200-1711843199@web.ccbun.org
SUMMARY:Fotografía básica para empresarios y emprendedores
DESCRIPTION:Lugar: Campus Virtual \nCosto: Gratuito \nIntensidad: 4 Hrs. \nHorario: Asincrónico \nlink: MÁS INFORMACIÓN \n  \nObjetivo: \n  \nAprende sobre mandos\, conceptos\, técnicas y trucos fotográficos con tu celular para llevar tu negocio o marca personal a otro nivel\, dominando la exposición\, la composición y su correcta aplicación en fotografía. \n  \n  \n  \nObjetivo Especifico: \n  \nTEMATICA \n  \nCómo hacer buenas fotografías con luz natural. \nCongelar el movimiento. \nEfecto fantasmal del movimiento (uso del trípode). Fotografía nocturna. \nComposición. \nExposición. \nTipos de fotografía: paisaje\, arquitectura\, retrato\, producto. \n  \n  \n¿No sabes cómo inscribirte en la plataforma? \n  \nTranquilo\, Guíate con un video tutórela que te ayudara solo dale click en Video tutóreal  \n  \nMÁS INFORMACIÓN
URL:https://web.ccbun.org/evento/fotografia-basica-para-empresarios-y-emprendedores-4/
CATEGORIES:Capacitaciones,Virtual
ATTACH;FMTTYPE=image/png:https://web.ccbun.org/wp-content/uploads/2024/03/Curso_Fotografia-basica-para-empresarios-y-emprendedores.png
END:VEVENT
BEGIN:VEVENT
DTSTART;VALUE=DATE:20240301
DTEND;VALUE=DATE:20240331
DTSTAMP:20260423T231745
CREATED:20240305T062358Z
LAST-MODIFIED:20240305T062358Z
UID:1256-1709251200-1711843199@web.ccbun.org
SUMMARY:Guía de WhatsApp para tu negocio
DESCRIPTION:Lugar: Campus Virtual \nCosto: Gratuito \nIntensidad: 3 Hrs. \nHorario: Asincrónico \nlink: Inscríbete aqui \n  \nObjetivo: \nConoce sobre la usabilidad de WhatsApp Business para todo tipo de negocios\, convirtiéndola en un canal de comunicación estratégico para el aterrizaje del cliente. \n  \nObjetivo Especifico: \nTemáticas: \nMódulo 1: Iniciación de WhatsApp Business \nMódulo 2: Configuración de tu empresa en WhatsApp Business \n  \nPúblico \nEmpresarios y emprendedores que quieren poner en marcha su WhatsApp Business \n  \n¿No sabes cómo inscribirte en la plataforma? \nTranquilo\, Guíate con un video tutórela que te ayudara solo dale click en Video tutóreal  \nMÁS INFORMACIÓN
URL:https://web.ccbun.org/evento/guia-de-whatsapp-para-tu-negocio-4/
CATEGORIES:Capacitaciones,Virtual
ATTACH;FMTTYPE=image/jpeg:https://web.ccbun.org/wp-content/uploads/2024/03/curso_guia-de-whatsapp_marzo.jpg
END:VEVENT
BEGIN:VEVENT
DTSTART;VALUE=DATE:20240301
DTEND;VALUE=DATE:20240331
DTSTAMP:20260423T231745
CREATED:20240305T063125Z
LAST-MODIFIED:20240305T063125Z
UID:1258-1709251200-1711843199@web.ccbun.org
SUMMARY:Aventúrate en el mundo digital\, haciendo ventas efectivas
DESCRIPTION:Lugar: Campus Virtual \nCosto: Gratuito \nIntensidad: 4 Hrs. \nHorario: Asincrónico \nlink: INCRÍBETE AQUÍ \nObjetivo: \nA través de este curso\, podrás potenciar tu proceso de ventas\, fortaleciendo tus habilidades en entornos digitales. Así atraerás negocios que te permitirán crecer. \nObjetivo Especifico: \nConstruir el prototipo de tu cliente ideal \n– Conocer cuál es la necesidad de mi cliente \n– Conocer cuál son sus objetivos y retos \n– Asociar mi oferta con la necesidad del cliente \nComprender cómo los canales digitales me sirven de palanca para el cumplimiento de los objetivos \n– Identificar los elementos de un ecosistema digital \n– Reconocer las plataformas que existen y sus oportunidades (GOOGLE-FACEBOOK) \nDesarrollar las diferentes etapas del proceso de compra aplicable a cada empresa \n– Comunicar cuando el cliente no me conoce \n– Comunicar cuando el cliente me conoce pero no está convencido \n– Comunicar para ayudarle al cliente a tomar su decisión de compra \nPúblico \nPersonas naturales que ya tengan su negocio en redes sociales. \nPersonas que cuenten con una marca personal y que quieran tener o tengan ventas en canales digitales. \nUniversitarios que estén interesados en aprender buenas prácticas para tener ventas en canales digitales. \nProfesiones afines: comunicación social\, publicidad\, mercadeo. Sin embargo\, todas las personas que estén interesadas en aprender buenas prácticas para mejorar sus ventas en canales digitales. \n¿No sabes cómo inscribirte en la plataforma? \nTranquilo\, Guíate con un video tutórela que te ayudara solo dale click en Video tutóreal  \nMÁS INFORMACIÓN
URL:https://web.ccbun.org/evento/aventurate-en-el-mundo-digital-haciendo-ventas-efectivas-2/
CATEGORIES:Capacitaciones,Virtual
ATTACH;FMTTYPE=image/jpeg:https://web.ccbun.org/wp-content/uploads/2024/03/curso_Aventurate-en-el-mundo-digital-haciendo-ventas-efectivas.jpg
END:VEVENT
BEGIN:VEVENT
DTSTART;TZID=America/Bogota:20240308T080000
DTEND;TZID=America/Bogota:20240308T180000
DTSTAMP:20260423T231745
CREATED:20240215T210706Z
LAST-MODIFIED:20240219T214919Z
UID:1237-1709884800-1709920800@web.ccbun.org
SUMMARY:Seminario de Actualización Tributaria e Información Exógena en Medios Magnéticos DIAN.
DESCRIPTION:Lugar: Auditorio Cámara de Comercio de Buenaventura\nFechas:  8 de marzo \nIntensidad:  8:00 a.m a 5:00 p.m\nHorario: Sincrónico\nINSCRIBETE:  AQUI \nINVERCIÓN: \nAFILIADOS CAMARA DE COMERCIO: $220.000 \nINSCRITOS: $260.000 \nPARTICULARES: $300.000 \n  \nCUPOS LIMITADOS
URL:https://web.ccbun.org/evento/eminario-de-actualizacion-tributaria-e-informacion-exogena-en-medios-magneticos-dian/
CATEGORIES:Capacitaciones,Presencial
ATTACH;FMTTYPE=image/png:https://web.ccbun.org/wp-content/uploads/2024/02/Seminario-Actualizacion-T.png
END:VEVENT
BEGIN:VEVENT
DTSTART;TZID=America/Bogota:20240327T080000
DTEND;TZID=America/Bogota:20240327T170000
DTSTAMP:20260423T231745
CREATED:20240327T204047Z
LAST-MODIFIED:20240327T204118Z
UID:1334-1711526400-1711558800@web.ccbun.org
SUMMARY:Diseño gráfico a tu alcance en Canva
DESCRIPTION:Lugar: Campus Virtual \nCosto: Gratuito \nIntensidad: 3 Hrs. \nHorario: Asincrónico \nlink: Inscríbete aqui \n  \nObjetivo: \nEn este curso aprenderás a usar Canva para crear diseños profesionales que cumplan la función de seducir\, persuadir y vender. Todo para visibilizar tu negocio\, optimizando tu tiempo y recursos en el proceso del diseño. \n  \nObjetivo Especifico: \n\nFamiliarizar al estudiante con la interfaz y las funciones de Canva​\nCrear diseños profesionales para promocionar negocios aunque el emprendedor no sepa nada de diseño​\nOptimizar el tiempo y los recursos en el proceso de diseño\n\nTEMARIOS: \nIntroducción a Canva. ​ \nCómo usar Canva para las Redes Sociales y material impreso​ \nPrincipios de diseño gráfico y de la escritura persuasiva​ \nCómo realizar videos en Canva​ \n  \nPúblico \nEmprendedores\, dueños de empresa profesionales de marketing y publicidad\, diseñadores gráficos\, gerentes de ventas y equipos de ventas\, profesionales de servicio al cliente; estudiantes de publicidad\, mercadeo\, diseño gráfico\, comunicación social y todas aquellas personas interesadas en el mundo  del diseño gráfico\, el marketing\, la publicidad y las ventas. \n  \n¿No sabes cómo inscribirte en la plataforma? \nTranquilo\, Guíate con un video tutórela que te ayudara solo dale click en Video tutóreal  \nMÁS INFORMACIÓN
URL:https://web.ccbun.org/evento/diseno-grafico-a-tu-alcance-en-canva-5/
CATEGORIES:Capacitaciones,Virtual
ATTACH;FMTTYPE=image/png:https://web.ccbun.org/wp-content/uploads/2024/03/Disena-con-canva-abril.png
END:VEVENT
END:VCALENDAR