BEGIN:VCALENDAR
VERSION:2.0
PRODID:-//Cámara de Comercio de Buenaventura - ECPv6.0.7.1//NONSGML v1.0//EN
CALSCALE:GREGORIAN
METHOD:PUBLISH
X-ORIGINAL-URL:https://web.ccbun.org
X-WR-CALDESC:Eventos para Cámara de Comercio de Buenaventura
REFRESH-INTERVAL;VALUE=DURATION:PT1H
X-Robots-Tag:noindex
X-PUBLISHED-TTL:PT1H
BEGIN:VTIMEZONE
TZID:America/Bogota
BEGIN:STANDARD
TZOFFSETFROM:-0500
TZOFFSETTO:-0500
TZNAME:-05
DTSTART:20230101T000000
END:STANDARD
END:VTIMEZONE
BEGIN:VEVENT
DTSTART;VALUE=DATE:20230601
DTEND;VALUE=DATE:20230630
DTSTAMP:20260424T100613
CREATED:20230531T140452Z
LAST-MODIFIED:20230613T144442Z
UID:559-1685577600-1688083199@web.ccbun.org
SUMMARY:Crea tu tienda virtual paso a paso\, Curso Virtual
DESCRIPTION:Lugar: Campus Virtual\nCosto: Gratuito\nIntensidad: 4 Hrs.\nHorario: Asincrónico\nlink: Incríbete aquí\nObjetivo: \n¿Quieres vender por internet\, pero no tienes experiencia creando sitios web? No te preocupes\, con nuestro método paso a paso lograrás crear una tienda virtual profesional sin necesidad de usar código.​ \nDe acuerdo con un análisis de la firma eMarketer\, las ventas de comercio electrónico minorista aumentarán un 36\,7% este año en la región a US$84.950 millones\, casi tres veces más que el 12\,5% ​​estimado en el pronóstico del cuarto trimestre de 2019\, y casi el doble del crecimiento del 19\,4% en la actualización de mayo de 2020.​ \nNo pares de vender nunca\, la tienda virtual de tu negocio estará abierta las 24 horas del día disponible para que tus clientes compren. \n  \nObjetivo Especifico: \nEn este curso aprenderás: \n\nInstala y configura Woocommerce: Woocommerce es la plataforma de comercio electrónico más usada en el mundo debido a su facilidad de uso y la gran cantidad de opciones que ofrece.\nCrea el diseño de tu web con tan solo arrastrar y soltar: En este tutorial te enseñamos a usar Elementor\, un plugin o complemento que te permitirá crear cualquier tipo de diseño visualmente y sin tener conocimiento previo.\nAgrega productos a tu tienda: Aprende a usar los distintos tipos de productos\, agrega imágenes y descripciones. Con Woocommerce no tienes límite de productos.\nAgrega las pasarelas de pago de tu país: Agrega las pasarelas de pago más usadas en tu país para que tus usuarios puedan pagar con facilidad.\nGestiona tus pedidos: Aprende a gestionar las compras que hacen tus usuarios. Aprueba y completa los pedidos.\nPersonaliza los correos de notificación: Dale un toque personal a los correos que llegan a tus clientes\, cambia el diseño de los correos para ajustarlos a tu marca.\n\nPara crear la tienda virtual de tu negocio\, no necesitas tener experiencia. \n  \nPublico: \nEmpresarios\, empresarias\, emprendedores y profesionales que quieran crear su tienda virtual para incrementar sus ventas. \n  \n¿No sabes cómo inscribirte en la plataforma? \nTranquilo\, Guíate con un video tutórela que te ayudara solo dale click en  Video tutóreal \n  \nMAS INFORMACIÓN
URL:https://web.ccbun.org/evento/crea-tu-tienda-virtual-paso-a-paso-curso-virtual/
CATEGORIES:Capacitaciones,Virtual
ATTACH;FMTTYPE=image/jpeg:https://web.ccbun.org/wp-content/uploads/2023/05/Crea-tu-tienda-virtual-Junio.jpg
END:VEVENT
BEGIN:VEVENT
DTSTART;VALUE=DATE:20230601
DTEND;VALUE=DATE:20230630
DTSTAMP:20260424T100613
CREATED:20230531T141327Z
LAST-MODIFIED:20230613T145417Z
UID:562-1685577600-1688083199@web.ccbun.org
SUMMARY:WhatsApp Business\, Curso virtual
DESCRIPTION:Lugar: Campus Virtual\nCosto: Gratuito\nIntensidad: 3 Hrs.\nHorario: Asincrónico\nlink: Incríbete aquí \nObjetivo: \nConoce sobre la usabilidad de WhatsApp Business para todo tipo de negocios\, convirtiéndola  en un canal  de comunicación estratégico para el aterrizaje del cliente. \n  \nObjetivo Especifico: \nTemáticas: \nMódulo 1: Iniciación de WhatsApp Business \nMódulo 2: Configuración de tu empresa en WhatsApp Business \n  \nPublico: \nEmpresarios y emprendedores que quieren poner en marcha su WhatsApp Business \n  \n¿No sabes cómo inscribirte en la plataforma? \nTranquilo\, Guíate con un video tutórela que te ayudara solo dale click en  Video tutóreal \n  \nMAS INFORMACIÓN
URL:https://web.ccbun.org/evento/whatsapp-business-curso-virtual/
CATEGORIES:Capacitaciones,Virtual
ATTACH;FMTTYPE=image/jpeg:https://web.ccbun.org/wp-content/uploads/2023/05/20230601_WhatsApp_WhatsApp_Junio.jpg
END:VEVENT
BEGIN:VEVENT
DTSTART;VALUE=DATE:20230601
DTEND;VALUE=DATE:20230630
DTSTAMP:20260424T100613
CREATED:20230531T143415Z
LAST-MODIFIED:20230613T144937Z
UID:565-1685577600-1688083199@web.ccbun.org
SUMMARY:Presencia en redes sociales\, Curso virtual
DESCRIPTION:Lugar: Campus Virtual\nCosto: Gratuito\nIntensidad: 10 Hrs.\nHorario: Asincrónico\nlink: Incríbete aquí \nObjetivo: \nGenera tu presencia en redes de manera estructurada para estar a nivel competitivo de las grandes empresas que tienen éxito en Internet \n  \nObjetivo Especifico: \n\nConocer mis objetivos empresariales\nConocer mi segmento de clientes\nDefinir ¿Cómo monetizo?\nDefinir mi estrategia de mercadeo\nSeleccionar la redes en las que quiero incursionar\nDefinir los contenidos que voy a usar\nConstruir los contenidos definidos\nProgramar la publicación de contenidos\nAnalizar los resultados\n\n  \nPublico: \n\nPersonas naturales que ya tengan su negocio en redes sociales.\nPersonas que cuenten con una marca personal y que quieran tener o tengan presencia en redes sociales.\nUniversitarios que estén interesados en aprender buenas prácticas para tener presencia en redes sociales.\n\nProfesiones afines: comunicación social\, publicidad\, mercadeo. Sin embargo\, todas las personas que estén interesadas en aprender buenas prácticas para mejorar su presencia en redes sociales. \n  \n¿No sabes cómo inscribirte en la plataforma? \nTranquilo\, Guíate con un video tutórela que te ayudara solo dale click en  Video tutóreal \n  \nMAS INFORMACIÓN
URL:https://web.ccbun.org/evento/presencia-en-redes-sociales-curso-virtual/
CATEGORIES:Capacitaciones,Virtual
ATTACH;FMTTYPE=image/jpeg:https://web.ccbun.org/wp-content/uploads/2023/05/Presencia_Redes_Junio_2023.jpg
END:VEVENT
BEGIN:VEVENT
DTSTART;VALUE=DATE:20230601
DTEND;VALUE=DATE:20230630
DTSTAMP:20260424T100613
CREATED:20230531T143726Z
LAST-MODIFIED:20230613T143614Z
UID:567-1685577600-1688083199@web.ccbun.org
SUMMARY:Crea un perfil vendedor para tu marca en Facebook e Instagram\, Curso virtual
DESCRIPTION:Lugar: Campus Virtual\nCosto: Gratuito\nIntensidad: 3 Hrs.\nHorario: Asincrónico\nlink: Incríbete aquí \nObjetivo: \nDesarrollo de un perfil empresarial en Facebook e Instagram que incremente el posicionamiento de la marca y el reconocimiento  en todos los sectores empresariales \n  \nPublico: \nEmpresarios\, emprendedores\, directores y  administradores que buscan en las redes sociales un canal de ventas y mercadeo para posicionar su empresa y marca en el nuevo entorno empresarial. \n  \n¿No sabes cómo inscribirte en la plataforma? \nTranquilo\, Guíate con un video tutórela que te ayudara solo dale click en  Video tutóreal \n  \nMAS INFORMACIÓN
URL:https://web.ccbun.org/evento/crea-un-perfil-vendedor-para-tu-marca-en-facebook-e-instagram-curso-virtual/
CATEGORIES:Capacitaciones,Virtual
ATTACH;FMTTYPE=image/jpeg:https://web.ccbun.org/wp-content/uploads/2023/05/Crea-perfil_WhatsApp.jpg
END:VEVENT
BEGIN:VEVENT
DTSTART;VALUE=DATE:20230601
DTEND;VALUE=DATE:20230630
DTSTAMP:20260424T100613
CREATED:20230613T150745Z
LAST-MODIFIED:20230613T150745Z
UID:590-1685577600-1688083199@web.ccbun.org
SUMMARY:Excel básico- intermedio\, Curso Virtual
DESCRIPTION:Lugar: Campus Virtual\nCosto: Gratuito\nIntensidad: 10 Hrs.\nHorario: Asincrónico\nlink: Incríbete aquí \nObjetivo: \nFortalece tus habilidades para el manejo de la información en la herramienta Excel \n  \nObjetivo Especifico: \n\nConoce los principios básicos de la herramienta Excel y su importancia en el día a día para tu empresa.\nAprende a utilizar las funciones imprescindibles para optimizar esta poderosa herramienta que te permitirá consultar y ordenar la información estratégica de tu empresa para el análisis y toma de decisiones.\nFortalece tus habilidades para el manejo de la información en la herramienta Excel\n\n  \nPublico: \nPersonas que por su actividad personal y/o profesional requieran gestionar volúmenes importantes de información para efectos laborales o personales. \n– Tener claro los conceptos de gestión de archivos ofimáticos.\n– El participante debe tener disponibilidad de equipo para el curso\, con Excel 2010 o superior instalado. \n  \n¿No sabes cómo inscribirte en la plataforma? \nTranquilo\, Guíate con un video tutórela que te ayudara solo dale click en  Video tutorial \n  \nMAS INFORMACIÓN
URL:https://web.ccbun.org/evento/excel-basico-intermedio-curso-virtual/
CATEGORIES:Capacitaciones,Virtual
ATTACH;FMTTYPE=image/jpeg:https://web.ccbun.org/wp-content/uploads/2023/06/Excel_Junio_2023_B.jpg
END:VEVENT
BEGIN:VEVENT
DTSTART;VALUE=DATE:20230601
DTEND;VALUE=DATE:20230802
DTSTAMP:20260424T100613
CREATED:20230531T144933Z
LAST-MODIFIED:20230531T144933Z
UID:571-1685577600-1690934399@web.ccbun.org
SUMMARY:Diseña y administra tu propio sitio web\, Curso Virtual
DESCRIPTION:Lugar: Campus Virtual\nCosto: $65.989\nIntensidad: 4 Hrs.\nHorario: Asincrónico\nlink: Incríbete aquí \nObjetivo: \nBrindar herramientas para diseñar y adminstrar tu propio sitio web con WordPress. \nAccede a nuestros planes: “Diamond” tendrás 4 horas de asesoría individual por parte del formador\, tiene un valor de $618.800 IVA incluido ó “Gold” tendrás 2 horas de asesoría individual por parte del formador. Este paquete\, tiene un valor de $309.400 IVA incluido. Si eres afiliado a CCC tienes un 10%. El curso te queda disponible siempre. \n  \nObjetivo Especifico: \n\nConocer la importancia de contar un sitio web dentro de la estrategia de marketing digital\nAprender a Instalar WordPress en tan solo un paso\nDiseñar  tu sitio web con un editor amigable y funcional.\nInstalar las extensiones más usadas en wordpress para que tu sitio web sea más atractivo.\nLograr que tu sitio web tenga visibilidad en Google\nUsar Google analytics para la toma de decisiones.\n\nContenido: \nIntroducción: \n\nLo que debes conocer antes de pensar en el diseño de tu sitio web\nInstalación y configuración del CMS WordPress – Gestor de Contenidos\nDiseño del sitio web\nInstalación de los Plugins o extensiones que todo sitio web debe tener\nPosicionamiento en Google – SEO\nAnalítica web de tu sitio\n\n\nPublico: \nEste curso esta dirigido a todas las personas que quieran tener presencia en internet a través de un sitio web\, ya que podrás diseñarlo y administrarlo sin  que seas experto en programación o en diseño web. Al Finalizar el curso tendrás las herramientas necesarias para diseñar y administrar tu propio sitio web con WordPress – un sistema de gestor de contenidos flexible y de facíl manejo para convertir tu sitio más robusto\, minimalista\, amigable\, funcional y con la opción de posicionarlo en Google -SEO \nPerfil del capacitador: \nNorbey Romero Gonzalez \nGerente Agencia Nrg Digital \nIngeniero De Sistemas \nMagister En Marketing Digital\, Especialista En Gerencia Estrategica De Sistemas De Informacion\, Certificado En Herramientas De Google – Publicidad En Busquedas\, Youtube Y Analitica Web. \nExperiencia en la Docencia como: Director de Programa de ingeniería de sistemas\, Instructor con la academia de Cisco\, Docente de diferentes universidades como: UNAD\, Autónoma\, San Martin\, Unilibre\, Unicuces. \n  \nInformación: \nValor del programa: $65.989 COP IVA incluido \nDescuento del 10% para Afiliados \nCorreo para mayor información: campusvirtual@ccc.org.co \n88613000 ext 712 \nCorreo: fortalecimientoempresarial@ccc.org.co \n  \nPara tener en cuenta: \nEste es un curso asincrónico\, en donde tendrás acceso 24/7. Si lo terminas antes de 2 meses podrás tenerlo disponible de manera indefinida. Si no lo terminas antes de estos dos meses la plataforma entenderá que no lo terminarás y te deshabilitará. Para activarlo nuevamente deberás cancelar $4.000 IVA incluido por dos meses más. Escríbenos a campusvirtual@ccc.org.co si deseas reactivarlo. \nSi renovaste a tiempo en el año 2022 y el curso está marcado con Estrella Dorada tienes acceso a un cupo adicional al comprado\, para adquirirlo por favor escríbenos a campusvirtual@ccc.org.co \n¿No sabes cómo inscribirte en la plataforma? \nTranquilo\, Guíate con un video tutórela que te ayudara solo dale click en  Video tutóreal \n  \nMAS INFORMACIÓN
URL:https://web.ccbun.org/evento/disena-y-administra-tu-propio-sitio-web-curso-virtual/
CATEGORIES:Capacitaciones,Virtual
ATTACH;FMTTYPE=image/jpeg:https://web.ccbun.org/wp-content/uploads/2023/05/Disena-y-administra-tu-propio-sitio-web-1.jpg
END:VEVENT
END:VCALENDAR