BEGIN:VCALENDAR
VERSION:2.0
PRODID:-//Cámara de Comercio de Buenaventura - ECPv6.0.7.1//NONSGML v1.0//EN
CALSCALE:GREGORIAN
METHOD:PUBLISH
X-WR-CALNAME:Cámara de Comercio de Buenaventura
X-ORIGINAL-URL:https://web.ccbun.org
X-WR-CALDESC:Eventos para Cámara de Comercio de Buenaventura
REFRESH-INTERVAL;VALUE=DURATION:PT1H
X-Robots-Tag:noindex
X-PUBLISHED-TTL:PT1H
BEGIN:VTIMEZONE
TZID:America/Bogota
BEGIN:STANDARD
TZOFFSETFROM:-0500
TZOFFSETTO:-0500
TZNAME:-05
DTSTART:20240101T000000
END:STANDARD
END:VTIMEZONE
BEGIN:VEVENT
DTSTART;VALUE=DATE:20240201
DTEND;VALUE=DATE:20240229
DTSTAMP:20260424T012802
CREATED:20240201T214141Z
LAST-MODIFIED:20240201T214141Z
UID:1168-1706745600-1709164799@web.ccbun.org
SUMMARY:Fotografía básica para empresarios y emprendedores
DESCRIPTION:Lugar: Campus Virtual\nCosto: Gratuito\nIntensidad: 4 Hrs.\nHorario: Asincrónico\nlink: Incríbete aquí \n  \nObjetivo: \nAprende sobre mandos\, conceptos\, técnicas y trucos fotográficos con tu celular para llevar tu negocio o marca personal a otro nivel\, dominando la exposición\, la composición y su correcta aplicación en fotografía. \n  \nObjetivo Especifico: \nTEMATICA \n\nCómo hacer buenas fotografías con luz natural.\nCongelar el movimiento.\nEfecto fantasmal del movimiento (uso del trípode). Fotografía nocturna.\nComposición.\nExposición.\nTipos de fotografía: paisaje\, arquitectura\, retrato\, producto.\n\n  \n¿No sabes cómo inscribirte en la plataforma? \nTranquilo\, Guíate con un video tutórela que te ayudara solo dale click en  Video tutóreal \n  \nMAS INFORMACIÓN
URL:https://web.ccbun.org/evento/fotografia-basica-para-empresarios-y-emprendedores-3/
CATEGORIES:Capacitaciones,Virtual
ATTACH;FMTTYPE=image/jpeg:https://web.ccbun.org/wp-content/uploads/2024/02/Curso_Fotografia-basica-para-empresarios-y-emprendedores.jpg
END:VEVENT
BEGIN:VEVENT
DTSTART;VALUE=DATE:20240201
DTEND;VALUE=DATE:20240229
DTSTAMP:20260424T012802
CREATED:20240201T214942Z
LAST-MODIFIED:20240201T214942Z
UID:1172-1706745600-1709164799@web.ccbun.org
SUMMARY:Crea tu tienda virtual paso a paso
DESCRIPTION:Lugar: Campus Virtual\nCosto: Gratuito\nIntensidad: 3 Hrs.\nHorario: Asincrónico\nlink: Incríbete aquí \n  \nObjetivo: \n¿Quieres vender por internet pero no tienes experiencia creando sitios web? No te preocupes\, con nuestro método paso a paso lograrás crear una tienda virtual profesional sin necesidad de usar código.​ \nDe acuerdo con un análisis de la firma eMarketer\, las ventas de comercio electrónico minorista aumentarán un 36\,7% este año en la región a US$84.950 millones\, casi tres veces más que el 12\,5% ​​estimado en el pronóstico del cuarto trimestre de 2019\, y casi el doble del crecimiento del 19\,4% en la actualización de mayo de 2020.​ \nNo pares de vender nunca\, la tienda virtual de tu negocio estará abierta las 24 horas del día disponible para que tus clientes compren. \n  \nObjetivo Especifico: \nEn este curso aprenderás: \n\nInstala y configura Woocommerce: Woocommerce es la plataforma de comercio electrónico más usada en el mundo debido a su facilidad de uso y la gran cantidad de opciones que ofrece.\nCrea el diseño de tu web con tan solo arrastrar y soltar: En este tutorial te enseñamos a usar Elementor\, un plugin o complemento que te permitirá crear cualquier tipo de diseño visualmente y sin tener conocimiento previo.\nAgrega productos a tu tienda: Aprende a usar los distintos tipos de productos\, agrega imágenes y descripciones. Con Woocommerce no tienes límite de productos.\nAgrega las pasarelas de pago de tu país: Agrega las pasarelas de pago más usadas en tu país para que tus usuarios puedan pagar con facilidad.\nGestiona tus pedidos: Aprende a gestionar las compras que hacen tus usuarios. Aprueba y completa los pedidos.\nPersonaliza los correos de notificación: Dale un toque personal a los correos que llegan a tus clientes\, cambia el diseño de los correos para ajustarlos a tu marca.\n\nPara crear la tienda virtual de tu negocio\, no necesitas tener experiencia \n  \nPublico: \nEmpresarios\, empresarias\, emprendedores y profesionales que quieran crear su tienda virtual para incrementar sus ventas. \n  \n¿No sabes cómo inscribirte en la plataforma? \nTranquilo\, Guíate con un video tutórela que te ayudara solo dale click en  Video tutóreal \n  \nMAS INFORMACIÓN
URL:https://web.ccbun.org/evento/crea-tu-tienda-virtual-paso-a-paso-6/
CATEGORIES:Capacitaciones,Virtual
ATTACH;FMTTYPE=image/jpeg:https://web.ccbun.org/wp-content/uploads/2024/02/Curso_Crea_tienda_WT.jpg
END:VEVENT
BEGIN:VEVENT
DTSTART;VALUE=DATE:20240201
DTEND;VALUE=DATE:20240229
DTSTAMP:20260424T012802
CREATED:20240202T154259Z
LAST-MODIFIED:20240202T154336Z
UID:1174-1706745600-1709164799@web.ccbun.org
SUMMARY:Gestión del dinero en Excel: Presupuestos
DESCRIPTION:Lugar: Campus Virtual\nCosto: Gratuito\nIntensidad: 4 Hrs.\nHorario: Asincrónico\nlink: Incríbete aquí \n  \nObjetivo: \nAprender a construir en Excel un presupuesto de ingresos y gastos y a hacerle seguimiento a su ejecución para fortalecer las capacidades de manejo de esta herramienta de una manera sencilla y práctica\, así como a controlar uno de los recursos más valiosos de la Pyme. \n  \nObjetivo Especifico: \n\nConocer los principios básicos de gestión presupuestal.\nDesarrollar en Excel una plantilla para construir el presupuesto de ingresos y gastos de la PYME.\nAprender a medir en Excel la ejecución presupuestal de la empresa.\n\n  \nPublico: \nGerentes\, líderes de equipos de trabajo de cualquier área\, Psicólogos Organizacionales\, profesionales de Mejoramiento Continuo\, profesionales de Calidad \, profesionales de Planeación\, emprendedores\, empresarios que deseen fortalecer sus conocimientos en diseño de herramientas de planeación en Excel que estén iniciando a fortalecer sus competencias en este programa. \nSe requieren conocimientos básicos de Excel\, las herramientas son para desarrollar competencias de niveles básico e intermedio. \n  \n¿No sabes cómo inscribirte en la plataforma? \nTranquilo\, Guíate con un video tutórela que te ayudara solo dale click en  Video tutóreal \n  \nMAS INFORMACIÓN
URL:https://web.ccbun.org/evento/1174/
CATEGORIES:Capacitaciones,Virtual
ATTACH;FMTTYPE=image/jpeg:https://web.ccbun.org/wp-content/uploads/2024/02/curso_gestion-del-dinero-en-excel_FEB.jpg
END:VEVENT
BEGIN:VEVENT
DTSTART;VALUE=DATE:20240201
DTEND;VALUE=DATE:20240229
DTSTAMP:20260424T012802
CREATED:20240202T154727Z
LAST-MODIFIED:20240202T154727Z
UID:1178-1706745600-1709164799@web.ccbun.org
SUMMARY:Plan Comercial Ajustado a tu Negocio
DESCRIPTION:Lugar: Campus Virtual\nCosto: Gratuito\nIntensidad: 4 Hrs.\nHorario: Asincrónico\nlink: Incríbete aquí \n  \nObjetivo: \nCrear un plan comercial ajustado a la madurez empresarial del negocio\, acorte a la arquitectura de la empresa\, los objetivos estratégicos\, la oferta de valor y la ruta de crecimiento. Esto acompañado de la medición por indicadores de gestión que permitirán evaluar el resultado de las estrategias comerciales actuales\, el perfil del equipo\, entre otros para tomar decisiones que redunden en aumentar las ventas de sus negocios. \n  \nObjetivo Especifico: \n1.Introducción a las estrategias comerciales. \n2. Entender el público objetivo y como trazar estrategias comerciales para aumentar las ventas. \n3. Elaboración del plan comercial del negocio 4. Gestionando los resultados comerciales. \n  \n¿No sabes cómo inscribirte en la plataforma? \nTranquilo\, Guíate con un video tutórela que te ayudara solo dale click en  Video tutóreal \n  \nMAS INFORMACIÓN
URL:https://web.ccbun.org/evento/plan-comercial-ajustado-a-tu-negocio-5/
CATEGORIES:Capacitaciones,Virtual
ATTACH;FMTTYPE=image/png:https://web.ccbun.org/wp-content/uploads/2024/02/Curso-Plan-Comercial-WH-1.png
END:VEVENT
BEGIN:VEVENT
DTSTART;VALUE=DATE:20240201
DTEND;VALUE=DATE:20240229
DTSTAMP:20260424T012802
CREATED:20240202T164240Z
LAST-MODIFIED:20240202T164240Z
UID:1181-1706745600-1709164799@web.ccbun.org
SUMMARY:Excel Básico-Intermedio
DESCRIPTION:Lugar: Campus Virtual\nCosto: Gratuito\nIntensidad: 10 Hrs.\nHorario: Asincrónico\nlink: Incríbete aquí \n  \nObjetivo: \nFortalece tus habilidades para el manejo de la información en la herramienta Excel \n  \nObjetivo Especifico: \nEn este curso aprenderás: \n\nConoce los principios básicos de la herramienta Excel y su importancia en el día a día para tu empresa.\nAprende a utilizar las funciones imprescindibles para optimizar esta poderosa herramienta que te permitirá consultar y ordenar la información estratégica de tu empresa para el análisis y toma de decisiones.\nFortalece tus habilidades para el manejo de la información en la herramienta Excel.\n\n  \nPublico: \nPersonas que por su actividad personal y/o profesional requieran gestionar volúmenes importantes de información para efectos laborales o personales.\n– Tener claro los conceptos de gestión de archivos ofimáticos.\n– El participante debe tener disponibilidad de equipo para el curso\, con Excel 2010 o superior instalado. \n  \n¿No sabes cómo inscribirte en la plataforma? \nTranquilo\, Guíate con un video tutórela que te ayudara solo dale click en  Video tutóreal \n  \nMAS INFORMACIÓN
URL:https://web.ccbun.org/evento/excel-basico-intermedio-4/
CATEGORIES:Capacitaciones,Virtual
ATTACH;FMTTYPE=image/jpeg:https://web.ccbun.org/wp-content/uploads/2024/02/Curso_Excel-Basico-Intermedio.jpg
END:VEVENT
END:VCALENDAR