BEGIN:VCALENDAR
VERSION:2.0
PRODID:-//Cámara de Comercio de Buenaventura - ECPv6.0.7.1//NONSGML v1.0//EN
CALSCALE:GREGORIAN
METHOD:PUBLISH
X-ORIGINAL-URL:https://web.ccbun.org
X-WR-CALDESC:Eventos para Cámara de Comercio de Buenaventura
REFRESH-INTERVAL;VALUE=DURATION:PT1H
X-Robots-Tag:noindex
X-PUBLISHED-TTL:PT1H
BEGIN:VTIMEZONE
TZID:America/Bogota
BEGIN:STANDARD
TZOFFSETFROM:-0500
TZOFFSETTO:-0500
TZNAME:-05
DTSTART:20240101T000000
END:STANDARD
END:VTIMEZONE
BEGIN:VEVENT
DTSTART;VALUE=DATE:20240501
DTEND;VALUE=DATE:20240530
DTSTAMP:20260423T212218
CREATED:20240503T191551Z
LAST-MODIFIED:20240503T191551Z
UID:1429-1714521600-1717027199@web.ccbun.org
SUMMARY:Diseño gráfico a tu alcance en Canva
DESCRIPTION:Lugar: Campus Virtual\nCosto: Gratuito\nIntensidad: 3 Hrs.\nHorario: Asincrónico\nlink: Incríbete aquí \n  \nObjetivo: \nEn este curso aprenderás a usar Canva para crear diseños profesionales que cumplan la función de seducir\, persuadir y vender. Todo para visibilizar tu negocio\, optimizando tu tiempo y recursos en el proceso del diseño. \n  \nObjetivo Especifico: \n\nFamiliarizar al estudiante con la interfaz y las funciones de Canva​\nCrear diseños profesionales para promocionar negocios aunque el emprendedor no sepa nada de diseño​\nOptimizar el tiempo y los recursos en el proceso de diseño\n\n  \nTEMARIOS: \nIntroducción a Canva. ​ \nCómo usar Canva para las Redes Sociales y material impreso​ \nPrincipios de diseño gráfico y de la escritura persuasiva​ \nCómo realizar videos en Canva​ \n  \nPublico: \nEmprendedores\, dueños de empresa profesionales de marketing y publicidad\, diseñadores gráficos\, gerentes de ventas y equipos de ventas\, profesionales de servicio al cliente; estudiantes de publicidad\, mercadeo\, diseño gráfico\, comunicación social y todas aquellas personas interesadas en el mundo  del diseño gráfico\, el marketing\, la publicidad y las ventas. \n  \n¿No sabes cómo inscribirte en la plataforma? \nTranquilo\, Guíate con un video tutórela que te ayudara solo dale click en  Video tutóreal \n  \nMAS INFORMACIÓN
URL:https://web.ccbun.org/evento/diseno-grafico-a-tu-alcance-en-canva-6/
CATEGORIES:Capacitaciones,Virtual
ATTACH;FMTTYPE=image/png:https://web.ccbun.org/wp-content/uploads/2024/05/Disena-con-canva-mayo.png
END:VEVENT
BEGIN:VEVENT
DTSTART;VALUE=DATE:20240501
DTEND;VALUE=DATE:20240530
DTSTAMP:20260423T212218
CREATED:20240503T192127Z
LAST-MODIFIED:20240503T192127Z
UID:1432-1714521600-1717027199@web.ccbun.org
SUMMARY:Gestión del dinero en Excel: Presupuestos
DESCRIPTION:Lugar: Campus Virtual\nCosto: Gratuito\nIntensidad: 4 Hrs.\nHorario: Asincrónico\nlink: Incríbete aquí \n  \nObjetivo: \nAprender a construir en Excel un presupuesto de ingresos y gastos y a hacerle seguimiento a su ejecución para fortalecer las capacidades de manejo de esta herramienta de una manera sencilla y práctica\, así como a controlar uno de los recursos más valiosos de la Pyme. \n  \nObjetivo Especifico: \n\nConocer los principios básicos de gestión presupuestal.\nDesarrollar en Excel una plantilla para construir el presupuesto de ingresos y gastos de la PYME.\nAprender a medir en Excel la ejecución presupuestal de la empresa.\n\n  \nPublico: \nGerentes\, líderes de equipos de trabajo de cualquier área\, Psicólogos Organizacionales\, profesionales de Mejoramiento Continuo\, profesionales de Calidad \, profesionales de Planeación\, emprendedores\, empresarios que deseen fortalecer sus conocimientos en diseño de herramientas de planeación en Excel que estén iniciando a fortalecer sus competencias en este programa. \nSe requieren conocimientos básicos de Excel\, las herramientas son para desarrollar competencias de niveles básico e intermedio. \n  \n¿No sabes cómo inscribirte en la plataforma? \nTranquilo\, Guíate con un video tutórela que te ayudara solo dale click en  Video tutóreal \n  \nMAS INFORMACIÓN
URL:https://web.ccbun.org/evento/gestion-del-dinero-en-excel-presupuestos-6/
CATEGORIES:Capacitaciones,Virtual
ATTACH;FMTTYPE=image/png:https://web.ccbun.org/wp-content/uploads/2024/05/curso_gestion-del-dinero-en-Excel_mayo.png
END:VEVENT
BEGIN:VEVENT
DTSTART;VALUE=DATE:20240501
DTEND;VALUE=DATE:20240530
DTSTAMP:20260423T212218
CREATED:20240503T201528Z
LAST-MODIFIED:20240503T201528Z
UID:1438-1714521600-1717027199@web.ccbun.org
SUMMARY:Fotografía básica para empresarios y emprendedores
DESCRIPTION:Lugar: Campus Virtual\nCosto: Gratuito\nIntensidad: 4 Hrs.\nHorario: Asincrónico\nlink: Incríbete aquí \n  \nObjetivo: \nAprende sobre mandos\, conceptos\, técnicas y trucos fotográficos con tu celular para llevar tu negocio o marca personal a otro nivel\, dominando la exposición\, la composición y su correcta aplicación en fotografía. \n  \nObjetivo Especifico: \nTEMATICA \n\nCómo hacer buenas fotografías con luz natural.\nCongelar el movimiento.\nEfecto fantasmal del movimiento (uso del trípode). Fotografía nocturna.\nComposición.\nExposición.\nTipos de fotografía: paisaje\, arquitectura\, retrato\, producto.\n\n  \n  \n¿No sabes cómo inscribirte en la plataforma? \nTranquilo\, Guíate con un video tutórela que te ayudara solo dale click en  Video tutóreal \n  \nMAS INFORMACIÓN
URL:https://web.ccbun.org/evento/fotografia-basica-para-empresarios-y-emprendedores-5/
CATEGORIES:Capacitaciones,Virtual
ATTACH;FMTTYPE=image/png:https://web.ccbun.org/wp-content/uploads/2024/05/Curso_Fotografia-basic-para-empresarios-y-emprendedores.png
END:VEVENT
BEGIN:VEVENT
DTSTART;VALUE=DATE:20240501
DTEND;VALUE=DATE:20240530
DTSTAMP:20260423T212218
CREATED:20240503T201808Z
LAST-MODIFIED:20240503T201808Z
UID:1440-1714521600-1717027199@web.ccbun.org
SUMMARY:Excel básico\, Curso Virtual
DESCRIPTION:Lugar: Campus Virtual\nCosto: Gratuito\nIntensidad: 4 Hrs.\nHorario: Asincrónico\nlink: Incríbete aquí \n  \nObjetivo: \nEn este curso aprenderás desde lo conceptual y práctico a manejar Excel básico para fortalecer las capacidades de manejo de esta herramienta de una manera sencilla y práctica. \n  \nObjetivo Especifico: \n\nAdquirir conocimiento básico del uso de Excel.\nObtener conocimientos respecto al desarrollo de cálculos básicos en Excel.\nAdquirir el conocimiento para hacer uso de tablas en Excel.\nConocer el uso de funcionalidades y fórmulas complementarias de Excel.\n\n  \nPublico: \nGerentes\, líderes de equipos de trabajo de cualquier área\, Psicólogos Organizacionales\, profesionales de Mejoramiento Continuo\, profesionales de Calidad\, profesionales de Planeación\, emprendedores\, empresarios que deseen fortalecer sus conocimientos en diseño de herramientas de planeación en Excel que estén iniciando a fortalecer sus competencias en este programa. Se requieren conocimientos básicos de Excel\, las herramientas son para desarrollar competencias de niveles básico e intermedio. \n  \n¿No sabes cómo inscribirte en la plataforma? \nTranquilo\, Guíate con un video tutórela que te ayudara solo dale click en  Video tutóreal \n  \nMAS INFORMACIÓN
URL:https://web.ccbun.org/evento/excel-basico-curso-virtual/
CATEGORIES:Capacitaciones,Virtual
ATTACH;FMTTYPE=image/png:https://web.ccbun.org/wp-content/uploads/2024/05/Wh-Curso-Excel-Basico.png
END:VEVENT
END:VCALENDAR