BEGIN:VCALENDAR
VERSION:2.0
PRODID:-//Cámara de Comercio de Buenaventura - ECPv6.0.7.1//NONSGML v1.0//EN
CALSCALE:GREGORIAN
METHOD:PUBLISH
X-WR-CALNAME:Cámara de Comercio de Buenaventura
X-ORIGINAL-URL:https://web.ccbun.org
X-WR-CALDESC:Eventos para Cámara de Comercio de Buenaventura
REFRESH-INTERVAL;VALUE=DURATION:PT1H
X-Robots-Tag:noindex
X-PUBLISHED-TTL:PT1H
BEGIN:VTIMEZONE
TZID:America/Bogota
BEGIN:STANDARD
TZOFFSETFROM:-0500
TZOFFSETTO:-0500
TZNAME:-05
DTSTART:20240101T000000
END:STANDARD
END:VTIMEZONE
BEGIN:VEVENT
DTSTART;VALUE=DATE:20240603
DTEND;VALUE=DATE:20240630
DTSTAMP:20260423T211814
CREATED:20240607T203324Z
LAST-MODIFIED:20240607T203324Z
UID:1497-1717372800-1719705599@web.ccbun.org
SUMMARY:Excel básico\, Curso Virtual
DESCRIPTION:Lugar: Campus Virtual\nCosto: Gratuito\nIntensidad: 4 Hrs.\nHorario: Asincrónico\nlink: Incríbete aquí \n  \nObjetivo: \nEn este curso aprenderás desde lo conceptual y práctico a manejar Excel básico para fortalecer las capacidades de manejo de esta herramienta de una manera sencilla y práctica. \n  \nObjetivo Especifico: \n\nAdquirir conocimiento básico del uso de Excel.\nObtener conocimientos respecto al desarrollo de cálculos básicos en Excel.\nAdquirir el conocimiento para hacer uso de tablas en Excel.\nConocer el uso de funcionalidades y fórmulas complementarias de Excel.\n\n  \nPublico: \nGerentes\, líderes de equipos de trabajo de cualquier área\, Psicólogos Organizacionales\, profesionales de Mejoramiento Continuo\, profesionales de Calidad\, profesionales de Planeación\, emprendedores\, empresarios que deseen fortalecer sus conocimientos en diseño de herramientas de planeación en Excel que estén iniciando a fortalecer sus competencias en este programa. Se requieren conocimientos básicos de Excel\, las herramientas son para desarrollar competencias de niveles básico e intermedio. \n  \n¿No sabes cómo inscribirte en la plataforma? \nTranquilo\, Guíate con un video tutórela que te ayudara solo dale click en  Video tutóreal \n  \nMAS INFORMACIÓN
URL:https://web.ccbun.org/evento/excel-basico-curso-virtual-2/
CATEGORIES:Capacitaciones,Virtual
ATTACH;FMTTYPE=image/png:https://web.ccbun.org/wp-content/uploads/2024/06/WH.png
END:VEVENT
BEGIN:VEVENT
DTSTART;VALUE=DATE:20240603
DTEND;VALUE=DATE:20240701
DTSTAMP:20260423T211814
CREATED:20240607T204219Z
LAST-MODIFIED:20240607T204219Z
UID:1505-1717372800-1719791999@web.ccbun.org
SUMMARY:El secreto de los presupuestos exitosos: Planifica y controla\, Curso Virtual
DESCRIPTION:Lugar: Campus Virtual\nCosto: Gratuito\nIntensidad: 10 Hrs.\nHorario: Asincrónico\nlink: Incríbete aquí \n  \nObjetivo: \nDotar a los participantes de los conocimientos y habilidades necesarias para comprender\, diseñar\, implementar y controlar eficazmente los procesos de planificación presupuestaria en las organizaciones. \n  \nObjetivo Especifico: \nComprender los fundamentos y principios de la planificación presupuestaria. \nSubtemas incluidos: Concepto de presupuesto\, importancia de la planificación financiera\, principios de la presupuestación.\nAdquirir competencias para elaborar\, ejecutar y monitorear diferentes tipos de presupuestos. \nSubtemas incluidos: \nTipos de presupuestos (operativos\, financieros\, de inversión)\, técnicas de elaboración de presupuestos\, seguimiento y control presupuestario. \n  \nPublico: \nMipymes \n  \n¿No sabes cómo inscribirte en la plataforma? \nTranquilo\, Guíate con un video tutórela que te ayudara solo dale click en  Video tutóreal \n  \nMAS INFORMACIÓN
URL:https://web.ccbun.org/evento/el-secreto-de-los-presupuestos-exitosos-planifica-y-controla-curso-virtual/
CATEGORIES:Capacitaciones,Virtual
ATTACH;FMTTYPE=image/png:https://web.ccbun.org/wp-content/uploads/2024/06/WH-1.png
END:VEVENT
BEGIN:VEVENT
DTSTART;VALUE=DATE:20240603
DTEND;VALUE=DATE:20240701
DTSTAMP:20260423T211814
CREATED:20240607T205006Z
LAST-MODIFIED:20240607T205006Z
UID:1507-1717372800-1719791999@web.ccbun.org
SUMMARY:Presencia en redes sociales\, Curso virtual
DESCRIPTION:Lugar: Campus Virtual\nCosto: Gratuito\nIntensidad:  10 Hrs.\nHorario: Asincrónico\nlink: Incríbete aquí \n  \nObjetivo: \nGenera tu presencia en redes de manera estructurada para estar a nivel competitivo de las grandes empresas que tienen éxito en Internet. \n  \nObjetivo Especifico: \n\nConocer mis objetivos empresariales\nConocer mi segmento de clientes\nDefinir ¿Cómo monetizo?\nDefinir mi estrategia de mercadeo\nSeleccionar la redes en las que quiero incursionar\nDefinir los contenidos que voy a usar\nConstruir los contenidos definidos\nProgramar la publicación de contenidos\nAnalizar los resultados\n\n  \nPublico: \nPersonas naturales que ya tengan su negocio en redes sociales.\nPersonas que cuenten con una marca personal y que quieran tener o tengan presencia en redes sociales.\nUniversitarios que estén interesados en aprender buenas prácticas para tener presencia en redes sociales.\nProfesiones afines: comunicación social\, publicidad\, mercadeo. Sin embargo\, todas las personas que estén interesadas en aprender buenas prácticas para mejorar su presencia en redes sociales. \n  \n¿No sabes cómo inscribirte en la plataforma? \nTranquilo\, Guíate con un video tutórela que te ayudara solo dale click en  Video tutóreal \n  \nMAS INFORMACIÓN
URL:https://web.ccbun.org/evento/presencia-en-redes-sociales-curso-virtual-3/
CATEGORIES:Capacitaciones,Virtual
ATTACH;FMTTYPE=image/png:https://web.ccbun.org/wp-content/uploads/2024/06/WH-2.png
END:VEVENT
BEGIN:VEVENT
DTSTART;VALUE=DATE:20240603
DTEND;VALUE=DATE:20240701
DTSTAMP:20260423T211814
CREATED:20240607T205726Z
LAST-MODIFIED:20240607T205726Z
UID:1509-1717372800-1719791999@web.ccbun.org
SUMMARY:Liderazgo en tiempos de Inteligencia Artificial\, Curso Virtual
DESCRIPTION:Lugar: Campus Virtual\nCosto: Gratuito\nIntensidad: 4 Hrs.\nHorario: Asincrónico\nlink: Incríbete aquí \n  \nObjetivo: \nEn este curso aprenderás a liderar de manera efectiva a los equipos de trabajo en un entorno de IA \n  \nObjetivo Especifico: \n\nComprender la Inteligencia Artificial (IA)\nDesarrollar Habilidades de Liderazgo Adaptativo\nFomentar Habilidades Estratégicas\nPromover la Ética en la Implementación de IA\nMejorar las Habilidades de Comunicación\nFomentar un Enfoque de Desarrollo Continuo\nAplicación Práctica del Conocimiento\n\n  \nPublico: \nEmprendedores\, empresarios y profesionales interesados en aprender a liderar efectivamente a sus equipos de trabajo en la era de la inteligencia artificial\, interesados en innovación\, liderazgo\, creatividad y desarrollo de competencias socioemocionales en torno al crecimiento personal y profesional de aquellos que hacen parte de su ecosistema profesional. \n  \n¿No sabes cómo inscribirte en la plataforma? \nTranquilo\, Guíate con un video tutórela que te ayudara solo dale click en  Video tutóreal \n  \nMAS INFORMACIÓN
URL:https://web.ccbun.org/evento/liderazgo-en-tiempos-de-inteligencia-artificial-curso-virtual/
CATEGORIES:Capacitaciones,Virtual
ATTACH;FMTTYPE=image/png:https://web.ccbun.org/wp-content/uploads/2024/06/WH-3.png
END:VEVENT
BEGIN:VEVENT
DTSTART;VALUE=DATE:20240603
DTEND;VALUE=DATE:20240701
DTSTAMP:20260423T211814
CREATED:20240607T210154Z
LAST-MODIFIED:20240607T210154Z
UID:1511-1717372800-1719791999@web.ccbun.org
SUMMARY:Estrategias para acceder a nuevas formas de financiar tu sueño\, Curso Virtual
DESCRIPTION:Lugar: Campus Virtual\nCosto: Gratuito\nIntensidad: 4 Hrs.\nHorario: Asincrónico\nlink: Incríbete aquí \n  \nObjetivo: \nEste curso proporciona a los participantes un conocimiento integral sobre las soluciones FINTECH y su aplicación específica en el contexto de las pequeñas y medianas empresas. A lo lrgo del curso\, los estudiantes aprenderán a analizar diversas alternativas de financiamiento disponibles a través de plataformas FINTECH\, prepararse para aplicar a estas opciones de manera efectiva\, gestionar riesgos financieros y mejorar habilidades de negociación. Además\, se enfocarán en el monitoreo y gestión del financiamiento obtenido\, asegurando un uso responsable de los fondos y contribuyendo al crecimiento y la sostenibilidad de las Pymes y Mipymes. \n  \nObjetivo Especifico: \n\n\nIdentificar y clasificar diferentes tipos de soluciones FINTECH disponibles para Pymes y Mipymes. \n\nSubtemas incluidos: Tipos de FINTECH\, funciones específicas de cada tipo de solución FINTECH\, ejemplos de aplicaciones en el entorno empresarial.\nAnalizar el impacto de las soluciones FINTECH en la gestión financiera y el crecimiento de las Pymes y Mipymes.\n\nSubtemas incluidos: Casos de estudio de Pymes y Mipymes que han implementado soluciones FINTECH\, beneficios y desafíos asociados con el uso de FINTECH\, estrategias para maximizar el valor de las soluciones FINTECH en el entorno empresarial. \n\n\n  \nPublico: \nPymes y Mipymes \n  \n¿No sabes cómo inscribirte en la plataforma? \nTranquilo\, Guíate con un video tutórela que te ayudara solo dale click en  Video tutóreal \n  \nMAS INFORMACIÓN
URL:https://web.ccbun.org/evento/estrategias-para-acceder-a-nuevas-formas-de-financiar-tu-sueno-curso-virtual/
CATEGORIES:Capacitaciones,Virtual
ATTACH;FMTTYPE=image/png:https://web.ccbun.org/wp-content/uploads/2024/06/WH-4.png
END:VEVENT
END:VCALENDAR