BEGIN:VCALENDAR
VERSION:2.0
PRODID:-//Cámara de Comercio de Buenaventura - ECPv6.0.7.1//NONSGML v1.0//EN
CALSCALE:GREGORIAN
METHOD:PUBLISH
X-WR-CALNAME:Cámara de Comercio de Buenaventura
X-ORIGINAL-URL:https://web.ccbun.org
X-WR-CALDESC:Eventos para Cámara de Comercio de Buenaventura
REFRESH-INTERVAL;VALUE=DURATION:PT1H
X-Robots-Tag:noindex
X-PUBLISHED-TTL:PT1H
BEGIN:VTIMEZONE
TZID:America/Bogota
BEGIN:STANDARD
TZOFFSETFROM:-0500
TZOFFSETTO:-0500
TZNAME:-05
DTSTART:20240101T000000
END:STANDARD
END:VTIMEZONE
BEGIN:VEVENT
DTSTART;VALUE=DATE:20240801
DTEND;VALUE=DATE:20240831
DTSTAMP:20260423T192751
CREATED:20240802T153134Z
LAST-MODIFIED:20240802T153134Z
UID:1680-1722470400-1725062399@web.ccbun.org
SUMMARY:Registro de marca paso a paso\, Curso Virtual
DESCRIPTION:Lugar: Campus Virtual \nCosto: Gratuito \nIntensidad: 2Hrs. \nHorario: Asincrónico \nlink:Inscríbete aquí \n  \nObjetivo: \nCapacitar a emprendedores en el proceso integral de registro\, protección y renovación de marcas comerciales\, brindando los conocimientos y herramientas necesarias para garantizar la seguridad legal y el resguardo de la identidad de sus productos o servicios en el mercado. \n  \nObjetivo Especifico: \n\nProporcionar una comprensión detallada del proceso de registro de marca.\nIdentificar y analizar los criterios clave que se deben tener en cuenta antes de iniciar el proceso de registro.\nGuiar a los participantes en la elaboración y presentación de una solicitud de registro de marca completa y efectiva.\n\n\nInstruir sobre los procedimientos y plazos para la renovación periódica de marcas registradas\, asegurando la continuidad de su protección legal y evitando posibles pérdidas de derechos por falta de cumplimiento.\n\n  \n  \nPublico: \nEmprendedores\, tanto aquellos que están en sus inicios como los que ya han consolidado su presencia en el mercado que estén interesados en registrar y proteger su marca. \n  \n¿No sabes cómo inscribirte en la plataforma? \n  \nTranquilo\, Guíate con un video tutórela que te ayudara solo dale click en Video tutóreal \n  \nMAS INFORMACIÓN
URL:https://web.ccbun.org/evento/registro-de-marca-paso-a-paso-curso-virtual-2/
CATEGORIES:Capacitaciones,Virtual
ATTACH;FMTTYPE=image/jpeg:https://web.ccbun.org/wp-content/uploads/2024/08/Imagen-de-WhatsApp-2024-08-02-a-las-09.34.39_4d364089.jpg
END:VEVENT
BEGIN:VEVENT
DTSTART;VALUE=DATE:20240801
DTEND;VALUE=DATE:20240831
DTSTAMP:20260423T192751
CREATED:20240802T153534Z
LAST-MODIFIED:20240802T153534Z
UID:1687-1722470400-1725062399@web.ccbun.org
SUMMARY:Liderazgo en tiempos de Inteligencia Artificial\, Curso Virtual
DESCRIPTION:Lugar: Campus Virtual\nCosto: Gratuito\nIntensidad: 4Hrs.\nHorario: Asincrónico\nlink:Inscríbete aquí \n  \nObjetivo: \nEn este curso aprenderás a liderar de manera efectiva a los equipos de trabajo en un entorno de IA. \n  \nObjetivo Especifico: \n\nComprender la Inteligencia Artificial (IA)\nDesarrollar Habilidades de Liderazgo Adaptativo\nFomentar Habilidades Estratégicas\nPromover la Ética en la Implementación de IA\nMejorar las Habilidades de Comunicación\nFomentar un Enfoque de Desarrollo Continuo\nAplicación Práctica del Conocimiento\n\n  \nPublico: \nEmprendedores\, empresarios y profesionales interesados en aprender a liderar efectivamente a sus equipos de trabajo en la era de la inteligencia artificial\, interesados en innovación\, liderazgo\, creatividad y desarrollo de competencias socioemocionales en torno al crecimiento personal y profesional de aquellos que hacen parte de su ecosistema profesional. \n  \n¿No sabes cómo inscribirte en la plataforma? \n  \nTranquilo\, Guíate con un video tutórela que te ayudara solo dale click en Video tutóreal \n  \nMAS INFORMACIÓN
URL:https://web.ccbun.org/evento/liderazgo-en-tiempos-de-inteligencia-artificial-curso-virtual-3/
CATEGORIES:Capacitaciones,Virtual
ATTACH;FMTTYPE=image/jpeg:https://web.ccbun.org/wp-content/uploads/2024/08/Imagen-de-WhatsApp-2024-08-02-a-las-09.34.29_c4051d7e.jpg
END:VEVENT
BEGIN:VEVENT
DTSTART;VALUE=DATE:20240801
DTEND;VALUE=DATE:20240831
DTSTAMP:20260423T192751
CREATED:20240802T155129Z
LAST-MODIFIED:20240802T155129Z
UID:1689-1722470400-1725062399@web.ccbun.org
SUMMARY:Fotografía básica para empresarios y emprendedores\, Curso virtual
DESCRIPTION:Lugar: Campus Virtual\nCosto: Gratuito\nIntensidad: 4Hrs.\nHorario: Asincrónico\nlink:Inscríbete aquí \n  \nObjetivo: \nAprende sobre mandos\, conceptos\, técnicas y trucos fotográficos con tu celular para llevar tu negocio o marca personal a otro nivel\, dominando la exposición\, la composición y su correcta aplicación en fotografía. \n  \nObjetivo Especifico: \nTEMATICA \n\nCómo hacer buenas fotografías con luz natural.\nCongelar el movimiento.\nEfecto fantasmal del movimiento (uso del trípode). Fotografía nocturna.\nComposición.\nExposición.\nTipos de fotografía: paisaje\, arquitectura\, retrato\, producto.\n\n  \n¿No sabes cómo inscribirte en la plataforma? \n  \nTranquilo\, Guíate con un video tutórela que te ayudara solo dale click en Video tutóreal \n  \nMAS INFORMACIÓN
URL:https://web.ccbun.org/evento/fotografia-basica-para-empresarios-y-emprendedores-curso-virtual/
CATEGORIES:Capacitaciones,Virtual
ATTACH;FMTTYPE=image/jpeg:https://web.ccbun.org/wp-content/uploads/2024/08/Imagen-de-WhatsApp-2024-08-02-a-las-09.34.19_b479e5c5.jpg
END:VEVENT
BEGIN:VEVENT
DTSTART;VALUE=DATE:20240801
DTEND;VALUE=DATE:20240831
DTSTAMP:20260423T192751
CREATED:20240802T160219Z
LAST-MODIFIED:20240802T160219Z
UID:1691-1722470400-1725062399@web.ccbun.org
SUMMARY:Excel básico\, Curso Virtual
DESCRIPTION:Lugar: Campus Virtual\nCosto: Gratuito\nIntensidad: 4Hrs.\nHorario: Asincrónico\nlink:Inscríbete aquí \n  \nObjetivo: \nEn este curso aprenderás desde lo conceptual y práctico a manejar Excel básico para fortalecer las capacidades de manejo de esta herramienta de una manera sencilla y práctica. \n  \nObjetivo Especifico: \n\nAdquirir conocimiento básico del uso de Excel.\nObtener conocimientos respecto al desarrollo de cálculos básicos en Excel.\nAdquirir el conocimiento para hacer uso de tablas en Excel.\nConocer el uso de funcionalidades y fórmulas complementarias de Excel.\n\n  \nPúblico\nGerentes\, líderes de equipos de trabajo de cualquier área\, Psicólogos Organizacionales\, profesionales de Mejoramiento Continuo\, profesionales de Calidad\, profesionales de Planeación\, emprendedores\, empresarios que deseen fortalecer sus conocimientos en diseño de herramientas de planeación en Excel que estén iniciando a fortalecer sus competencias en este programa. Se requieren conocimientos básicos de Excel\, las herramientas son para desarrollar competencias de niveles básico e intermedio. \n  \n¿No sabes cómo inscribirte en la plataforma? \n  \nTranquilo\, Guíate con un video tutórela que te ayudara solo dale click en Video tutóreal \n  \nMAS INFORMACIÓN
URL:https://web.ccbun.org/evento/excel-basico-curso-virtual-4/
CATEGORIES:Capacitaciones,Virtual
ATTACH;FMTTYPE=image/jpeg:https://web.ccbun.org/wp-content/uploads/2024/08/Imagen-de-WhatsApp-2024-08-02-a-las-09.34.11_ae543139.jpg
END:VEVENT
BEGIN:VEVENT
DTSTART;VALUE=DATE:20240801
DTEND;VALUE=DATE:20240831
DTSTAMP:20260423T192751
CREATED:20240802T160529Z
LAST-MODIFIED:20240802T160529Z
UID:1693-1722470400-1725062399@web.ccbun.org
SUMMARY:Aprende cómo preparar tus impuestos sin complicaciones\, Curso virtual
DESCRIPTION:Lugar: Campus Virtual\nCosto: Gratuito\nIntensidad: 2Hrs.\nHorario: Asincrónico\nlink:Inscríbete aquí \n  \nObjetivo: \nCapacitar a los participantes en la preparación de sus impuestos de manera sencilla y sin complicaciones\, bajo el Régimen Simple de Tributación (RST) establecido por la DIAN. \n  \nObjetivo Especifico: \nComprender los conceptos básicos del Régimen Simple de Tributación y su aplicación en la declaración de impuestos. \nAprender a preparar y presentar correctamente la declaración de impuestos baja el RST\, aprovechando los beneficios y ventajas que ofrece este régimen simplificado. \nTemática: \n\nTema 1 Impuestos\n\n  \nPúblico\nPymes y Mipymes \n  \n¿No sabes cómo inscribirte en la plataforma? \n  \nTranquilo\, Guíate con un video tutórela que te ayudara solo dale click en Video tutóreal \n  \nMAS INFORMACIÓN
URL:https://web.ccbun.org/evento/aprende-como-preparar-tus-impuestos-sin-complicaciones-curso-virtual/
CATEGORIES:Capacitaciones,Virtual
ATTACH;FMTTYPE=image/jpeg:https://web.ccbun.org/wp-content/uploads/2024/08/Imagen-de-WhatsApp-2024-08-02-a-las-09.34.05_f8a5a675.jpg
END:VEVENT
END:VCALENDAR