BEGIN:VCALENDAR
VERSION:2.0
PRODID:-//Cámara de Comercio de Buenaventura - ECPv6.0.7.1//NONSGML v1.0//EN
CALSCALE:GREGORIAN
METHOD:PUBLISH
X-WR-CALNAME:Cámara de Comercio de Buenaventura
X-ORIGINAL-URL:https://web.ccbun.org
X-WR-CALDESC:Eventos para Cámara de Comercio de Buenaventura
REFRESH-INTERVAL;VALUE=DURATION:PT1H
X-Robots-Tag:noindex
X-PUBLISHED-TTL:PT1H
BEGIN:VTIMEZONE
TZID:America/Bogota
BEGIN:STANDARD
TZOFFSETFROM:-0500
TZOFFSETTO:-0500
TZNAME:-05
DTSTART:20240101T000000
END:STANDARD
END:VTIMEZONE
BEGIN:VEVENT
DTSTART;VALUE=DATE:20240901
DTEND;VALUE=DATE:20241001
DTSTAMP:20260423T183900
CREATED:20240910T160526Z
LAST-MODIFIED:20240910T160526Z
UID:1712-1725148800-1727740799@web.ccbun.org
SUMMARY:Diseña y posiciona tu marca\, Curso Virtual
DESCRIPTION:Lugar: Campus Virtual\nCosto: Gratuito\nIntensidad: 2Hrs.\nHorario: Asincrónico\nlink:Inscríbete aquí \n  \nObjetivo: \nDesarrollar las habilidades y conocimientos necesarios para diseñar y posicionar una marca sólida y diferenciada\, que atraiga a tu público objetivo y te impulse al éxito. \n  \nObjetivo Especifico: \n\nIdentificar la esencia y los valores únicos de tu marca.\nDesarrollar una propuesta de valor clara y convincente.\nDefinir tu público objetivo ideal.\n\n  \nPúblico\nPymes y Mipymes \n  \n¿No sabes cómo inscribirte en la plataforma? \n  \nTranquilo\, Guíate con un video tutórela que te ayudara solo dale click en Video tutóreal \n  \nMAS INFORMACIÓN
URL:https://web.ccbun.org/evento/disena-y-posiciona-tu-marca-curso-virtual/
CATEGORIES:Capacitaciones,Virtual
ATTACH;FMTTYPE=image/jpeg:https://web.ccbun.org/wp-content/uploads/2024/09/Disena-y-posiciona-tu-marca_WA_Disena-y-posiciona-tu-marca1.jpg
END:VEVENT
BEGIN:VEVENT
DTSTART;VALUE=DATE:20240902
DTEND;VALUE=DATE:20241001
DTSTAMP:20260423T183900
CREATED:20240910T194550Z
LAST-MODIFIED:20240910T194550Z
UID:1718-1725235200-1727740799@web.ccbun.org
SUMMARY:Excel básico\, Curso Virtual
DESCRIPTION:Lugar: Campus Virtual\nCosto: Gratuito\nIntensidad: 4Hrs.\nHorario: Asincrónico\nlink:Inscríbete aquí \n  \nObjetivo: \nEn este curso aprenderás desde lo conceptual y práctico a manejar Excel básico para fortalecer las capacidades de manejo de esta herramienta de una manera sencilla y práctica. \n  \nObjetivo Especifico: \n\nAdquirir conocimiento básico del uso de Excel.\nObtener conocimientos respecto al desarrollo de cálculos básicos en Excel.\nAdquirir el conocimiento para hacer uso de tablas en Excel.\nConocer el uso de funcionalidades y fórmulas complementarias de Excel.\n\n  \nPúblico\nGerentes\, líderes de equipos de trabajo de cualquier área\, Psicólogos Organizacionales\, profesionales de Mejoramiento Continuo\, profesionales de Calidad\, profesionales de Planeación\, emprendedores\, empresarios que deseen fortalecer sus conocimientos en diseño de herramientas de planeación en Excel que estén iniciando a fortalecer sus competencias en este programa. Se requieren conocimientos básicos de Excel\, las herramientas son para desarrollar competencias de niveles básico e intermedio. \n  \n¿No sabes cómo inscribirte en la plataforma? \n  \nTranquilo\, Guíate con un video tutórela que te ayudara solo dale click en Video tutóreal \n  \nMAS INFORMACIÓN
URL:https://web.ccbun.org/evento/excel-basico-curso-virtual-5/
CATEGORIES:Capacitaciones,Virtual
ATTACH;FMTTYPE=image/png:https://web.ccbun.org/wp-content/uploads/2024/09/WH-sept.png
END:VEVENT
BEGIN:VEVENT
DTSTART;VALUE=DATE:20240902
DTEND;VALUE=DATE:20241001
DTSTAMP:20260423T183900
CREATED:20240910T194944Z
LAST-MODIFIED:20240910T194944Z
UID:1720-1725235200-1727740799@web.ccbun.org
SUMMARY:Liderazgo en tiempos de Inteligencia Artificial\, Curso Virtual
DESCRIPTION:Lugar: Campus Virtual\nCosto: Gratuito\nIntensidad: 4Hrs.\nHorario: Asincrónico\nlink:Inscríbete aquí \n  \nObjetivo: \nEn este curso aprenderás a liderar de manera efectiva a los equipos de trabajo en un entorno de IA. \n  \nObjetivo Especifico: \n\nComprender la Inteligencia Artificial (IA)\nDesarrollar Habilidades de Liderazgo Adaptativo\nFomentar Habilidades Estratégicas\nPromover la Ética en la Implementación de IA\nMejorar las Habilidades de Comunicación\nFomentar un Enfoque de Desarrollo Continuo\nAplicación Práctica del Conocimiento\n\n  \nPúblico\nEmprendedores\, empresarios y profesionales interesados en aprender a liderar efectivamente a sus equipos de trabajo en la era de la inteligencia artificial\, interesados en innovación\, liderazgo\, creatividad y desarrollo de competencias socioemocionales en torno al crecimiento personal y profesional de aquellos que hacen parte de su ecosistema profesional. \n  \n¿No sabes cómo inscribirte en la plataforma? \n  \nTranquilo\, Guíate con un video tutórela que te ayudara solo dale click en Video tutóreal \n  \nMAS INFORMACIÓN
URL:https://web.ccbun.org/evento/liderazgo-en-tiempos-de-inteligencia-artificial-curso-virtual-4/
CATEGORIES:Capacitaciones,Virtual
ATTACH;FMTTYPE=image/png:https://web.ccbun.org/wp-content/uploads/2024/09/WH.png
END:VEVENT
BEGIN:VEVENT
DTSTART;VALUE=DATE:20240902
DTEND;VALUE=DATE:20241001
DTSTAMP:20260423T183900
CREATED:20240910T195636Z
LAST-MODIFIED:20240910T195636Z
UID:1722-1725235200-1727740799@web.ccbun.org
SUMMARY:Estrategias sostenibles para tu negocio\, Curso virtual
DESCRIPTION:Lugar: Campus Virtual\nCosto: Gratuito\nIntensidad: 2Hrs.\nHorario: Asincrónico\nlink:Inscríbete aquí \n  \nObjetivo: \nDesarrollar e implementar estrategias sostenibles en tu negocio para reducir su impacto ambiental\, mejorar su rentabilidad y contribuir a un futuro más sostenible. \n  \nObjetivo Especifico: \n\nOptimizar el uso de recursos para reducir costos operativos.\nAprovechar incentivos y beneficios fiscales relacionados con la sostenibilidad.\nAtraer a clientes y socios que valoran las prácticas sostenibles.\n\n  \nPúblico\nPymes y Mipymes \n  \n¿No sabes cómo inscribirte en la plataforma? \n  \nTranquilo\, Guíate con un video tutórela que te ayudara solo dale click en Video tutóreal \n  \nMAS INFORMACIÓN
URL:https://web.ccbun.org/evento/estrategias-sostenibles-para-tu-negocio-curso-virtual/
CATEGORIES:Capacitaciones,Webinar
ATTACH;FMTTYPE=image/png:https://web.ccbun.org/wp-content/uploads/2024/09/Webinar-Estrategias-sostenibles-para-tu-negocio_WA_.png
END:VEVENT
END:VCALENDAR