BEGIN:VCALENDAR
VERSION:2.0
PRODID:-//Cámara de Comercio de Buenaventura - ECPv6.0.7.1//NONSGML v1.0//EN
CALSCALE:GREGORIAN
METHOD:PUBLISH
X-WR-CALNAME:Cámara de Comercio de Buenaventura
X-ORIGINAL-URL:https://web.ccbun.org
X-WR-CALDESC:Eventos para Cámara de Comercio de Buenaventura
REFRESH-INTERVAL;VALUE=DURATION:PT1H
X-Robots-Tag:noindex
X-PUBLISHED-TTL:PT1H
BEGIN:VTIMEZONE
TZID:America/Bogota
BEGIN:STANDARD
TZOFFSETFROM:-0500
TZOFFSETTO:-0500
TZNAME:-05
DTSTART:20250101T000000
END:STANDARD
END:VTIMEZONE
BEGIN:VEVENT
DTSTART;VALUE=DATE:20250102
DTEND;VALUE=DATE:20250131
DTSTAMP:20260423T143318
CREATED:20250113T202828Z
LAST-MODIFIED:20250113T202841Z
UID:1847-1735776000-1738281599@web.ccbun.org
SUMMARY:Cómo llevar las cuentas de tu negocio
DESCRIPTION:Lugar: Campus Virtual\nCosto: Gratuito\nIntensidad: 3Hrs.\nHorario: Asincrónico\nlink:Inscríbete aquí \n  \nObjetivo: \nProporcionar a emprendedores y trabajadores independientes en Colombia las herramientas y conocimientos necesarios para llevar una contabilidad efectiva y organizada\, fomentando una gestión financiera saludable que contribuya al crecimiento sostenible de sus negocios. \n  \nObjetivo Especifico: \n\nComprender la Importancia de la Contabilidad: Explicar los principios básicos de la contabilidad y su relevancia para la gestión de un emprendimiento o actividad independiente en Colombia.\nOrganizar el RUT (Registro Único Tributario): Guiar a los participantes en el proceso de organización y uso del RUT para facilitar la formalización y operación de sus negocios.\nImplementar Herramientas Prácticas: Proporcionar plantillas y recursos que ayuden a los participantes a llevar un registro claro y eficiente de sus ingresos y gastos.\nDesarrollar Estrategias para una Vida Financiera Sana: Enseñar prácticas financieras que promuevan la sostenibilidad económica y el crecimiento a largo plazo de sus emprendimientos.\nResolver Dudas y Problemas Comunes: Ofrecer asesoría sobre los desafíos contables más frecuentes que enfrentan los emprendedores y cómo superarlos eficazmente.\n\n  \nPúblico\nEmprendedores: Personas que han iniciado o están en proceso de iniciar un negocio propio y necesitan aprender a gestionar su contabilidad de manera efectiva. \nTrabajadores Independientes: Profesionales que ofrecen sus servicios de manera autónoma y requieren herramientas para llevar un control financiero adecuado. \nPequeños Empresarios: Dueños de pequeñas empresas que buscan formalizar sus operaciones y mejorar la gestión de sus cuentas. \n  \n¿No sabes cómo inscribirte en la plataforma? \n  \nTranquilo\, Guíate con un video tutórela que te ayudara solo dale click en Video tutóreal \n  \nMAS INFORMACIÓN
URL:https://web.ccbun.org/evento/como-llevar-las-cuentas-de-tu-negocio/
CATEGORIES:Capacitaciones,Virtual
END:VEVENT
BEGIN:VEVENT
DTSTART;VALUE=DATE:20250102
DTEND;VALUE=DATE:20250131
DTSTAMP:20260423T143318
CREATED:20250113T202314Z
LAST-MODIFIED:20250113T202314Z
UID:1845-1735776000-1738281599@web.ccbun.org
SUMMARY:LinkedIn para empresas\, Curso Virtual Cohorte Enero
DESCRIPTION:Lugar: Campus Virtual\nCosto: Gratuito\nIntensidad: 1Hrs.\nHorario: Asincrónico\nlink:Inscríbete aquí \n  \nObjetivo: \nDesarrollar habilidades y estrategias efectivas para utilizar LinkedIn como una herramienta poderosa para posicionar la marca de la empresa\, generar ventas y reclutar talento\, optimizando así la presencia y el alcance en la red profesional más grande del mundo \n  \nObjetivo Especifico: \n✓Construir una Estrategia de Marca: Enseñar a los participantes a crear una estrategia de posicionamiento de marca en LinkedIn que destaque los valores y la propuesta de valor de su empresa. \n✓Utilizar Herramientas de LinkedIn: Capacitar a los asistentes en el uso de las diversas herramientas y funciones que ofrece LinkedIn\, como publicaciones\, anuncios y grupos\, para maximizar su visibilidad y alcance. \n✓Generar Ventas a Través de LinkedIn: Proporcionar técnicas y estrategias para convertir conexiones en oportunidades de negocio\, incluyendo la creación de contenido atractivo que impulse la generación de leads. \n✓Reclutar Talento de Calidad: Desarrollar habilidades para identificar\, atraer y reclutar a los mejores candidatos a través de LinkedIn\, utilizando las herramientas de búsqueda y las técnicas de acercamiento adecuadas. \n✓Fortalecer Relaciones Profesionales: Fomentar la creación de redes sólidas y relaciones duraderas con seguidores\, clientes y empleados\, mejorando el engagement y la comunicación interna y externa. \n  \nPúblico\nPropietarios de Empresas: Dueños de pequeñas y medianas empresas que buscan mejorar su visibilidad y generar nuevas oportunidades de negocio en LinkedIn.\nProfesionales de Marketing: Especialistas en marketing digital que desean ampliar sus conocimientos sobre estrategias específicas en LinkedIn para la promoción de marcas.\nRecursos Humanos: Profesionales encargados de la contratación que quieren optimizar su proceso de reclutamiento y aprender a atraer talento a través de la plataforma.\nEmprendedores: Personas que están iniciando su negocio y necesitan entender cómo utilizar LinkedIn para construir su marca y establecer conexiones relevantes.\nEquipos de Ventas: Vendedores que desean aprender a utilizar LinkedIn como una herramienta para generar leads y cerrar ventas. \n  \n¿No sabes cómo inscribirte en la plataforma? \n  \nTranquilo\, Guíate con un video tutórela que te ayudara solo dale click en Video tutóreal \n  \nMAS INFORMACIÓN
URL:https://web.ccbun.org/evento/linkedin-para-empresas-curso-virtual-cohorte-enero/
CATEGORIES:Capacitaciones,Virtual
ATTACH;FMTTYPE=image/jpeg:https://web.ccbun.org/wp-content/uploads/2025/01/Cursos-LinkedIn-para-empresas_WA_.jpg
END:VEVENT
BEGIN:VEVENT
DTSTART;VALUE=DATE:20250102
DTEND;VALUE=DATE:20250131
DTSTAMP:20260423T143318
CREATED:20250113T211541Z
LAST-MODIFIED:20250113T211541Z
UID:1850-1735776000-1738281599@web.ccbun.org
SUMMARY:Plan de mercadeo y ventas con estrategias de marketing digital
DESCRIPTION:Lugar: Campus Virtual\nCosto: Gratuito\nIntensidad: 4Hrs.\nHorario: Asincrónico\nlink:Inscríbete aquí \n  \nObjetivo: \nConocer y diseñar planes de mercadeo y ventas\, con el apoyo de campañas de marketing efectivas que impulsen las ventas y fortalezcan la presencia online de tu negocio\, utilizando herramientas y técnicas digitales de vanguardia. \n  \nObjetivo Especifico: \n\n✓Definir qué es el plan de mercadeo\, ventas y su importancia.\n✓ Conocer las fases y pasos para el desarrollo de un plan de mercadeo y ventas. \n✓ Establecer elementos para concretar objetivos y estrategias de mercadeo yventas. \n✓ Aplicar herramientas prácticas en cada una de las fases del plan de mercadeoy ventas \n.✓ Explorar globalmente el marketing digital en pro de los negocios y empresas. \n✓ Conocer la aplicación del marketing digital para integrar a planes de mercadeoy ventas. \n✓ Aplicar lo aprendido para la definición de estrategias a través del marketingdigital.\n\n  \nPúblico\nEmpresarios\, empresarias\, emprendedores y profesionales que quieran crear su plan de mercadeo y ventas con estrategias de marketing digital \n  \n¿No sabes cómo inscribirte en la plataforma? \n  \nTranquilo\, Guíate con un video tutórela que te ayudara solo dale click en Video tutóreal \n  \nMAS INFORMACIÓN
URL:https://web.ccbun.org/evento/plan-de-mercadeo-y-ventas-con-estrategias-de-marketing-digital/
CATEGORIES:Capacitaciones,Virtual
ATTACH;FMTTYPE=image/jpeg:https://web.ccbun.org/wp-content/uploads/2025/01/Piezas-curso-Plan-de-Mercadeo-y-Ventas.jpg
END:VEVENT
BEGIN:VEVENT
DTSTART;TZID=America/Bogota:20250102T080000
DTEND;TZID=America/Bogota:20250130T170000
DTSTAMP:20260423T143318
CREATED:20250113T211825Z
LAST-MODIFIED:20250113T211825Z
UID:1852-1735804800-1738256400@web.ccbun.org
SUMMARY:Excel básico\, Curso Virtual
DESCRIPTION:Lugar: Campus Virtual\nCosto: Gratuito\nIntensidad: 4Hrs.\nHorario: Asincrónico\nlink:Inscríbete aquí \n  \nObjetivo: \nEn este curso aprenderás desde lo conceptual y práctico a manejar Excel básico para fortalecer las capacidades de manejo de esta herramienta de una manera sencilla y práctica. \n  \nObjetivo Especifico: \n\nAdquirir conocimiento básico del uso de Excel.\nObtener conocimientos respecto al desarrollo de cálculos básicos en Excel.\nAdquirir el conocimiento para hacer uso de tablas en Excel.\nConocer el uso de funcionalidades y fórmulas complementarias de Excel.\n\n  \nPúblico\nGerentes\, líderes de equipos de trabajo de cualquier área\, Psicólogos Organizacionales\, profesionales de Mejoramiento Continuo\, profesionales de Calidad\, profesionales de Planeación\, emprendedores\, empresarios que deseen fortalecer sus conocimientos en diseño de herramientas de planeación en Excel que estén iniciando a fortalecer sus competencias en este programa. Se requieren conocimientos básicos de Excel\, las herramientas son para desarrollar competencias de niveles básico e intermedio. \n  \n¿No sabes cómo inscribirte en la plataforma? \n  \nTranquilo\, Guíate con un video tutórela que te ayudara solo dale click en Video tutóreal \n  \nMAS INFORMACIÓN
URL:https://web.ccbun.org/evento/excel-basico-curso-virtual-6/
CATEGORIES:Capacitaciones,Virtual
ATTACH;FMTTYPE=image/png:https://web.ccbun.org/wp-content/uploads/2025/01/WH-sept-1.png
END:VEVENT
BEGIN:VEVENT
DTSTART;TZID=America/Bogota:20250102T080000
DTEND;TZID=America/Bogota:20250130T170000
DTSTAMP:20260423T143318
CREATED:20250113T212032Z
LAST-MODIFIED:20250113T212032Z
UID:1854-1735804800-1738256400@web.ccbun.org
SUMMARY:Liderazgo en tiempos de Inteligencia Artificial\, Curso Virtual
DESCRIPTION:Lugar: Campus Virtual\nCosto: Gratuito\nIntensidad: 4Hrs.\nHorario: Asincrónico\nlink:Inscríbete aquí \n  \nObjetivo: \nEn este curso aprenderás a liderar de manera efectiva a los equipos de trabajo en un entorno de IA. \n  \nObjetivo Especifico: \n\nComprender la Inteligencia Artificial (IA)\nDesarrollar Habilidades de Liderazgo Adaptativo\nFomentar Habilidades Estratégicas\nPromover la Ética en la Implementación de IA\nMejorar las Habilidades de Comunicación\nFomentar un Enfoque de Desarrollo Continuo\nAplicación Práctica del Conocimiento\n\n  \nPúblico\nEmprendedores\, empresarios y profesionales interesados en aprender a liderar efectivamente a sus equipos de trabajo en la era de la inteligencia artificial\, interesados en innovación\, liderazgo\, creatividad y desarrollo de competencias socioemocionales en torno al crecimiento personal y profesional de aquellos que hacen parte de su ecosistema profesional. \n  \n¿No sabes cómo inscribirte en la plataforma? \n  \nTranquilo\, Guíate con un video tutórela que te ayudara solo dale click en Video tutóreal \n  \nMAS INFORMACIÓN
URL:https://web.ccbun.org/evento/liderazgo-en-tiempos-de-inteligencia-artificial-curso-virtual-5/
CATEGORIES:Capacitaciones,Virtual
ATTACH;FMTTYPE=image/png:https://web.ccbun.org/wp-content/uploads/2025/01/WH.png
END:VEVENT
BEGIN:VEVENT
DTSTART;TZID=America/Bogota:20250121T090000
DTEND;TZID=America/Bogota:20250121T103000
DTSTAMP:20260423T143318
CREATED:20250113T195156Z
LAST-MODIFIED:20250113T195156Z
UID:1833-1737450000-1737455400@web.ccbun.org
SUMMARY:Forjando líderes con IA\, Webinar
DESCRIPTION:Lugar: Campus Virtual\nCosto: Gratuito\nIntensidad: 1 Hr.\nHorario: Sincrónico\nlink:Inscríbete aquí \n  \nObjetivo general \nCapacitar a nuevos líderes para que adquieran las habilidades técnicas y estratégicas necesarias para integrar la inteligencia artificial en la toma de decisiones y en la gestión de procesos sostenibles. \n  \nObjetivos Específicos \n\nFormar en el liderazgo digital con enfoque sostenible: Desarrollar competencias de liderazgo para guiar equipos y organizaciones en la integración de la IA en sus estrategias de sostenibilidad\, promoviendo una cultura de innovación y responsabilidad.\nCrear una visión estratégica de futuro con IA: Guiar a los nuevos líderes en la formulación de una visión estratégica que utilice la IA para anticipar futuros desafíos y oportunidades en sostenibilidad\, posicionando a sus organizaciones como pioneras en prácticas responsables y tecnológicas.\n\n  \nTemáticas \nDesarrollo de habilidades de liderazgo digital \nDesarrollo de una visión estratégica para líderes sostenibles \nFormación en liderazgo ético con IA \n  \n  \nPúblico \nLíderes de sostenibilidad y responsabilidad social corporativa (RSE) que desean integrar estrategias digitales para mejorar el impacto ambiental de sus organizaciones y atraer clientes que valoren la sostenibilidad. \nEmpresarios y emprendedores interesados en construir una ventaja competitiva basada en prácticas responsables que contribuyan al cuidado del medio ambiente y al desarrollo de una reputación sólida en sostenibilidad. \n  \nPerfil capacitador \nBRYAN ANDRÉS VIAFARA GALINDO \nDIRECTOR GENERAL \nINGENIERO INDUSTRIAL \nTrayectoria \nMBA CARVAJAL Y DIPLOMADO EN COACHING ORGANIZACIONAL. \nCONSULTOR CÁMARA DE COMERCIO DE CALI\, FUNDACIÓN WWB Y COMFANDI. 2022 – ACTUALIDADMENTOR EN ORATORIA CONSCIENTE GERENTE GENERAL GRUPO EMPRESARIAL VIAFARA MARTINEZ SAS – 2018 – ACTUALIDADDOCENTE UNIVERSITARIO UNIVERSIDAD DE LOS ANDES 2024 – ACTUALIDADCOACH ORGANIZACIONAL SECREATARIA DE SALUD PÚBLICA DE CALI 2024 – ACTUALIDAD. \n  \n¿No sabes cómo inscribirte en la plataforma? \nTranquilo\, Guíate con un video tutórela que te ayudara solo dale click en Video tutóreal \n  \n  \nMAS INFORMACIÓN
URL:https://web.ccbun.org/evento/forjando-lideres-con-ia-webinar/
CATEGORIES:Capacitaciones,Virtual,Webinar
ATTACH;FMTTYPE=image/jpeg:https://web.ccbun.org/wp-content/uploads/2025/01/Webinar-Forjando-lideres-con-IAenero-21_WA.jpg
END:VEVENT
END:VCALENDAR