BEGIN:VCALENDAR
VERSION:2.0
PRODID:-//Cámara de Comercio de Buenaventura - ECPv6.0.7.1//NONSGML v1.0//EN
CALSCALE:GREGORIAN
METHOD:PUBLISH
X-WR-CALNAME:Cámara de Comercio de Buenaventura
X-ORIGINAL-URL:https://web.ccbun.org
X-WR-CALDESC:Eventos para Cámara de Comercio de Buenaventura
REFRESH-INTERVAL;VALUE=DURATION:PT1H
X-Robots-Tag:noindex
X-PUBLISHED-TTL:PT1H
BEGIN:VTIMEZONE
TZID:America/Bogota
BEGIN:STANDARD
TZOFFSETFROM:-0500
TZOFFSETTO:-0500
TZNAME:-05
DTSTART:20250101T000000
END:STANDARD
END:VTIMEZONE
BEGIN:VEVENT
DTSTART;VALUE=DATE:20250401
DTEND;VALUE=DATE:20250430
DTSTAMP:20260423T104256
CREATED:20250407T195942Z
LAST-MODIFIED:20250407T195942Z
UID:1866-1743465600-1745971199@web.ccbun.org
SUMMARY:Aprende cómo preparar tus impuestos sin complicaciones
DESCRIPTION:Lugar: Campus Virtual\nCosto: Gratuito\nIntensidad: 2Hrs.\nHorario: Asincrónico\nlink:Inscríbete aquí \n  \nObjetivo: \nCapacitar a los participantes en la preparación de sus impuestos de manera sencilla y sin complicaciones\, bajo el Régimen Simple de Tributación (RST) establecido por la DIAN. \n  \nObjetivo Especifico: \nComprender los conceptos básicos del Régimen Simple de Tributación y su aplicación en la declaración de impuestos. \nAprender a preparar y presentar correctamente la declaración de impuestos baja el RST\, aprovechando los beneficios y ventajas que ofrece este régimen simplificado. \nTemática: \n\nTema 1 Impuestos\n\n  \nPúblico\nPymes y Mipymes \n  \n¿No sabes cómo inscribirte en la plataforma? \n  \nTranquilo\, Guíate con un video tutórela que te ayudara solo dale click en Video tutóreal \n  \nMAS INFORMACIÓN
URL:https://web.ccbun.org/evento/aprende-como-preparar-tus-impuestos-sin-complicaciones/
CATEGORIES:Capacitaciones,Virtual
ATTACH;FMTTYPE=image/png:https://web.ccbun.org/wp-content/uploads/2025/04/WH.png
END:VEVENT
BEGIN:VEVENT
DTSTART;VALUE=DATE:20250401
DTEND;VALUE=DATE:20250430
DTSTAMP:20260423T104256
CREATED:20250407T200541Z
LAST-MODIFIED:20250407T200541Z
UID:1868-1743465600-1745971199@web.ccbun.org
SUMMARY:Aumenta tus ganancias con prácticas sostenibles
DESCRIPTION:Lugar: Campus Virtual\nCosto: Gratuito\nIntensidad: 2Hrs.\nHorario: Asincrónico\nlink:Inscríbete aquí \n  \nObjetivo: \nDominar estrategias de negocio sostenibles que impulsen el crecimiento de tus ganancias\, reduzcan costos y contribuyan a un futuro más verde. \n  \nObjetivo Especifico: \n\nExplorar tendencias de mercado y necesidades de clientes que se alinean con la sostenibilidad.\nAnalizar la viabilidad y el potencial de retorno de inversión de prácticas sostenibles.\nIdentificar nichos de mercado y segmentos de clientes receptivos a productos o servicios sostenibles.\n\n  \nPúblico\nPymes y Mipymes \n  \n¿No sabes cómo inscribirte en la plataforma? \n  \nTranquilo\, Guíate con un video tutórela que te ayudara solo dale click en Video tutóreal \n  \nMAS INFORMACIÓN
URL:https://web.ccbun.org/evento/aumenta-tus-ganancias-con-practicas-sostenibles/
CATEGORIES:Capacitaciones,Virtual
ATTACH;FMTTYPE=image/jpeg:https://web.ccbun.org/wp-content/uploads/2025/04/WA-nov.jpg
END:VEVENT
BEGIN:VEVENT
DTSTART;VALUE=DATE:20250401
DTEND;VALUE=DATE:20250430
DTSTAMP:20260423T104256
CREATED:20250407T200819Z
LAST-MODIFIED:20250407T200819Z
UID:1870-1743465600-1745971199@web.ccbun.org
SUMMARY:Diseña y posiciona tu marca
DESCRIPTION:Lugar: Campus Virtual\nCosto: Gratuito\nIntensidad: 2Hrs.\nHorario: Asincrónico\nlink:Inscríbete aquí \n  \nObjetivo: \nDesarrollar las habilidades y conocimientos necesarios para diseñar y posicionar una marca sólida y diferenciada\, que atraiga a tu público objetivo y te impulse al éxito. \n  \nObjetivo Especifico: \nIdentificar la esencia y los valores únicos de tu marca.\nDesarrollar una propuesta de valor clara y convincente.\nDefinir tu público objetivo ideal. \n  \nPúblico\nPymes y Mipymes \n  \n¿No sabes cómo inscribirte en la plataforma? \n  \nTranquilo\, Guíate con un video tutórela que te ayudara solo dale click en Video tutóreal \n  \nMAS INFORMACIÓN
URL:https://web.ccbun.org/evento/disena-y-posiciona-tu-marca/
CATEGORIES:Capacitaciones,Virtual
ATTACH;FMTTYPE=image/jpeg:https://web.ccbun.org/wp-content/uploads/2025/04/Disena-y-posiciona-tu-marca_WA_Disena-y-posiciona-tu-marca.jpg
END:VEVENT
BEGIN:VEVENT
DTSTART;VALUE=DATE:20250401
DTEND;VALUE=DATE:20250430
DTSTAMP:20260423T104256
CREATED:20250407T201032Z
LAST-MODIFIED:20250407T201032Z
UID:1872-1743465600-1745971199@web.ccbun.org
SUMMARY:Excel básico
DESCRIPTION:Lugar: Campus Virtual\nCosto: Gratuito\nIntensidad: 4Hrs.\nHorario: Asincrónico\nlink:Inscríbete aquí \n  \nObjetivo: \nEn este curso aprenderás desde lo conceptual y práctico a manejar Excel básico para fortalecer las capacidades de manejo de esta herramienta de una manera sencilla y práctica. \n  \nObjetivo Especifico: \n\nAdquirir conocimiento básico del uso de Excel.\nObtener conocimientos respecto al desarrollo de cálculos básicos en Excel.\nAdquirir el conocimiento para hacer uso de tablas en Excel.\nConocer el uso de funcionalidades y fórmulas complementarias de Excel.\n\n  \nPúblico\nGerentes\, líderes de equipos de trabajo de cualquier área\, Psicólogos Organizacionales\, profesionales de Mejoramiento Continuo\, profesionales de Calidad\, profesionales de Planeación\, emprendedores\, empresarios que deseen fortalecer sus conocimientos en diseño de herramientas de planeación en Excel que estén iniciando a fortalecer sus competencias en este programa. Se requieren conocimientos básicos de Excel\, las herramientas son para desarrollar competencias de niveles básico e intermedio. \n  \n¿No sabes cómo inscribirte en la plataforma? \n  \nTranquilo\, Guíate con un video tutórela que te ayudara solo dale click en Video tutóreal \n  \nMAS INFORMACIÓN
URL:https://web.ccbun.org/evento/excel-basico/
CATEGORIES:Capacitaciones,Virtual
ATTACH;FMTTYPE=image/png:https://web.ccbun.org/wp-content/uploads/2025/04/WH-sept.png
END:VEVENT
BEGIN:VEVENT
DTSTART;VALUE=DATE:20250401
DTEND;VALUE=DATE:20250430
DTSTAMP:20260423T104256
CREATED:20250407T201312Z
LAST-MODIFIED:20250407T201312Z
UID:1874-1743465600-1745971199@web.ccbun.org
SUMMARY:Plan de mercadeo y ventas con estrategias de marketing digital
DESCRIPTION:Lugar: Campus Virtual\nCosto: Gratuito\nIntensidad: 4Hrs.\nHorario: Asincrónico\nlink:Inscríbete aquí \n  \nObjetivo: \nConocer y diseñar planes de mercadeo y ventas\, con el apoyo de campañas de marketing efectivas que impulsen las ventas y fortalezcan la presencia online de tu negocio\, utilizando herramientas y técnicas digitales de vanguardia. \n  \nObjetivo Especifico: \n✓Definir qué es el plan de mercadeo\, ventas y su importancia. \n✓ Conocer las fases y pasos para el desarrollo de un plan de mercadeo y ventas. \n✓ Establecer elementos para concretar objetivos y estrategias de mercadeo yventas. \n✓ Aplicar herramientas prácticas en cada una de las fases del plan de mercadeoy ventas \n.✓ Explorar globalmente el marketing digital en pro de los negocios y empresas. \n✓ Conocer la aplicación del marketing digital para integrar a planes de mercadeoy ventas. \n✓ Aplicar lo aprendido para la definición de estrategias a través del marketingdigital. \n. \n  \nPúblico\nEmpresarios\, empresarias\, emprendedores y profesionales que quieran crear su plan de mercadeo y ventas con estrategias de marketing digital \n  \n¿No sabes cómo inscribirte en la plataforma? \n  \nTranquilo\, Guíate con un video tutórela que te ayudara solo dale click en Video tutóreal \n  \nMAS INFORMACIÓN
URL:https://web.ccbun.org/evento/plan-de-mercadeo-y-ventas-con-estrategias-de-marketing-digital-2/
CATEGORIES:Capacitaciones,Virtual
ATTACH;FMTTYPE=image/jpeg:https://web.ccbun.org/wp-content/uploads/2025/04/Piezas-curso-Plan-de-Mercadeo-y-Ventas.jpg
END:VEVENT
END:VCALENDAR