BEGIN:VCALENDAR
VERSION:2.0
PRODID:-//Cámara de Comercio de Buenaventura - ECPv6.0.7.1//NONSGML v1.0//EN
CALSCALE:GREGORIAN
METHOD:PUBLISH
X-ORIGINAL-URL:https://web.ccbun.org
X-WR-CALDESC:Eventos para Cámara de Comercio de Buenaventura
REFRESH-INTERVAL;VALUE=DURATION:PT1H
X-Robots-Tag:noindex
X-PUBLISHED-TTL:PT1H
BEGIN:VTIMEZONE
TZID:America/Bogota
BEGIN:STANDARD
TZOFFSETFROM:-0500
TZOFFSETTO:-0500
TZNAME:-05
DTSTART:20250101T000000
END:STANDARD
END:VTIMEZONE
BEGIN:VEVENT
DTSTART;TZID=America/Bogota:20251119T100000
DTEND;TZID=America/Bogota:20251119T113000
DTSTAMP:20260423T022533
CREATED:20251113T195429Z
LAST-MODIFIED:20251113T195429Z
UID:1963-1763546400-1763551800@web.ccbun.org
SUMMARY:Estrategia de contenido orgánico: planea y publica alineado con tus metas comerciales
DESCRIPTION:Lugar: Campus Virtual\nCosto: Gratuito\nIntensidad: 1 Hr.\nHorario: Sincrónico\nlink:Inscríbete aquí \n  \nObjetivo general \n  \nObjetivos Específicos \n\nReconocer la importancia de alinear los contenidos digitales orgánicos con los objetivos comerciales.\nIdentificar cómo se alinean las metas comerciales con los contenidos digitales orgánicos propuestos.\nComprender la importancia de los públicos y su comportamiento digital para la planeación de contenidos.\nConocer las fases para diseñar un calendario de contenidos estratégicos.\nExplorar ejemplos y buenas prácticas de contenido orgánico desarrollado por algunas marcas.\n\n  \nPúblico \nFreelancers\, escritores y/o creadores de contenido\, publicistas y personas afines a las áreas creativas que buscan entender cómo crear contenido orgánico alineado con las metas comerciales de su cliente. Líderes de las áreas de marketing y/o comunicaciones que están buscando un espacio para estimular la creatividad. Personas naturales que deseen aprender sobre creación de contenido orgánico para medios digitales. Universitarios que estén interesados en ampliar sus conocimientos. Profesiones afines: comunicación social\, publicidad\, mercadeo. \n  \n  \n¿No sabes cómo inscribirte en la plataforma? \nTranquilo\, Guíate con un video tutórela que te ayudara solo dale click en Video tutóreal \n  \n  \nMAS INFORMACIÓN
URL:https://web.ccbun.org/evento/estrategia-de-contenido-organico-planea-y-publica-alineado-con-tus-metas-comerciales/
CATEGORIES:Capacitaciones,Virtual,Webinar
ATTACH;FMTTYPE=image/jpeg:https://web.ccbun.org/wp-content/uploads/2025/11/Estrategia-de-contenido-organico.jpeg
END:VEVENT
END:VCALENDAR