BEGIN:VCALENDAR
VERSION:2.0
PRODID:-//Cámara de Comercio de Buenaventura - ECPv6.0.7.1//NONSGML v1.0//EN
CALSCALE:GREGORIAN
METHOD:PUBLISH
X-WR-CALNAME:Cámara de Comercio de Buenaventura
X-ORIGINAL-URL:https://web.ccbun.org
X-WR-CALDESC:Eventos para Cámara de Comercio de Buenaventura
REFRESH-INTERVAL;VALUE=DURATION:PT1H
X-Robots-Tag:noindex
X-PUBLISHED-TTL:PT1H
BEGIN:VTIMEZONE
TZID:America/Bogota
BEGIN:STANDARD
TZOFFSETFROM:-0500
TZOFFSETTO:-0500
TZNAME:-05
DTSTART:20250101T000000
END:STANDARD
END:VTIMEZONE
BEGIN:VEVENT
DTSTART;TZID=America/Bogota:20251120T090000
DTEND;TZID=America/Bogota:20251120T103000
DTSTAMP:20260423T022357
CREATED:20251113T194806Z
LAST-MODIFIED:20251113T194806Z
UID:1961-1763629200-1763634600@web.ccbun.org
SUMMARY:2026 no se improvisa: Planea hoy o apagas mañana
DESCRIPTION:Lugar: Campus Virtual\nCosto: Gratuito\nIntensidad: 1 Hr.\nHorario: Sincrónico\nlink:Inscríbete aquí \n  \nObjetivo general \nGuiar a empresarios y emprendedores en la planificación estratégica de sus negocios para el 2026\, fortaleciendo su capacidad de anticipar riesgos\, aprovechar oportunidades y asegurar la sostenibilidad de sus resultados. \n  \nObjetivos Específicos \n\nBrindar herramientas prácticas de planeación estratégica\, que permitan definir metas claras\, prioridades y acciones concretas para el 2026.\nFortalecer la capacidad de análisis y anticipación\, ayudando a los empresarios a identificar riesgos\, tendencias y oportunidades del entorno.\nPromover una cultura de planificación y sostenibilidad\, orientada a la toma de decisiones informadas y al crecimiento a largo plazo de los negocios.\n\n  \nPúblico \nEmprendedores\, empresarios y equipos comerciales que buscan potenciar sus resultados de venta durante la temporada navideña\, optimizando estrategias\, habilidades y acciones para cerrar el año con éxito. \n  \n  \n¿No sabes cómo inscribirte en la plataforma? \nTranquilo\, Guíate con un video tutórela que te ayudara solo dale click en Video tutóreal \n  \n  \nMAS INFORMACIÓN
URL:https://web.ccbun.org/evento/2026-no-se-improvisa-planea-hoy-o-apagas-manana/
CATEGORIES:Capacitaciones,Virtual,Webinar
ATTACH;FMTTYPE=image/jpeg:https://web.ccbun.org/wp-content/uploads/2025/11/2026-no-se-improvisa-Planea.jpeg
END:VEVENT
END:VCALENDAR