BEGIN:VCALENDAR
VERSION:2.0
PRODID:-//Cámara de Comercio de Buenaventura - ECPv6.0.7.1//NONSGML v1.0//EN
CALSCALE:GREGORIAN
METHOD:PUBLISH
X-WR-CALNAME:Cámara de Comercio de Buenaventura
X-ORIGINAL-URL:https://web.ccbun.org
X-WR-CALDESC:Eventos para Cámara de Comercio de Buenaventura
REFRESH-INTERVAL;VALUE=DURATION:PT1H
X-Robots-Tag:noindex
X-PUBLISHED-TTL:PT1H
BEGIN:VTIMEZONE
TZID:America/Bogota
BEGIN:STANDARD
TZOFFSETFROM:-0500
TZOFFSETTO:-0500
TZNAME:-05
DTSTART:20250101T000000
END:STANDARD
END:VTIMEZONE
BEGIN:VEVENT
DTSTART;TZID=America/Bogota:20251121T090000
DTEND;TZID=America/Bogota:20251121T103000
DTSTAMP:20260423T022434
CREATED:20251113T194335Z
LAST-MODIFIED:20251113T194335Z
UID:1959-1763715600-1763721000@web.ccbun.org
SUMMARY:Plataformas estratégicas asistidas por IA para la transformación de pymes colombianas
DESCRIPTION:Lugar: Campus Virtual\nCosto: Gratuito\nIntensidad: 1 Hr.\nHorario: Sincrónico\nlink:Inscríbete aquí \n  \nObjetivo general \nImpulsar la transformación de las pymes colombianas mediante plataformas estratégicas asistidas por inteligencia artificial que fortalezcan su competitividad\, innovación y crecimiento sostenible. \n  \nObjetivos Específicos \nExponer los fundamentos Lean Logistics \nDar a conocer con ejemplos prácticos su usabilidad y beneficios en la cadena logísticas de las empresas \nTemáticas: \nTema 1  Introducción a lean logistics \n \nTema 2  Pasos para implementación lean logistics \nTema 3  Casos de éxito lean logistics \nTema 4  Conclusiones \n  \nPúblico \nEmprendedores\, empresarios y equipos comerciales que buscan potenciar sus resultados de venta durante la temporada navideña\, optimizando estrategias\, habilidades y acciones para cerrar el año con éxito. \n  \n  \n¿No sabes cómo inscribirte en la plataforma? \nTranquilo\, Guíate con un video tutórela que te ayudara solo dale click en Video tutóreal \n  \n  \nMAS INFORMACIÓN
URL:https://web.ccbun.org/evento/plataformas-estrategicas-asistidas-por-ia-para-la-transformacion-de-pymes-colombianas/
CATEGORIES:Capacitaciones,Virtual,Webinar
ATTACH;FMTTYPE=image/jpeg:https://web.ccbun.org/wp-content/uploads/2025/11/Plataformas-estrategicas-asistidas-por-IA-para-la-transformacion-de-pymes-colombianas.jpeg
END:VEVENT
END:VCALENDAR