BEGIN:VCALENDAR
VERSION:2.0
PRODID:-//Cámara de Comercio de Buenaventura - ECPv6.0.7.1//NONSGML v1.0//EN
CALSCALE:GREGORIAN
METHOD:PUBLISH
X-ORIGINAL-URL:https://web.ccbun.org
X-WR-CALDESC:Eventos para Cámara de Comercio de Buenaventura
REFRESH-INTERVAL;VALUE=DURATION:PT1H
X-Robots-Tag:noindex
X-PUBLISHED-TTL:PT1H
BEGIN:VTIMEZONE
TZID:America/Bogota
BEGIN:STANDARD
TZOFFSETFROM:-0500
TZOFFSETTO:-0500
TZNAME:-05
DTSTART:20250101T000000
END:STANDARD
END:VTIMEZONE
BEGIN:VEVENT
DTSTART;TZID=America/Bogota:20251125T090000
DTEND;TZID=America/Bogota:20251125T103000
DTSTAMP:20260423T022531
CREATED:20251113T193840Z
LAST-MODIFIED:20251113T193840Z
UID:1957-1764061200-1764066600@web.ccbun.org
SUMMARY:Haz que la IA trabaje por ti: herramientas prácticas para tu negocio
DESCRIPTION:Lugar: Campus Virtual\nCosto: Gratuito\nIntensidad: 1 Hr.\nHorario: Sincrónico\nlink:Inscríbete aquí \n  \nObjetivo general \nCapacitar a los empresarios en el uso de herramientas de inteligencia artificial aplicadas a la gestión\, el marketing y la productividad\, para mejorar la eficiencia y los resultados de sus negocios. \n  \nObjetivos Específicos \n\nDar a conocer herramientas de inteligencia artificial accesibles y de fácil uso\, que optimicen procesos administrativos\, comerciales y de comunicación.\nFortalecer las competencias digitales de los empresarios\, impulsando la adopción estratégica de la IA en la gestión y operación de sus negocios.\nAplicar casos prácticos de uso de la IA\, demostrando cómo estas herramientas pueden aumentar la productividad\, reducir costos y mejorar la toma de decisiones.\n\n  \nPúblico \nEmprendedores\, empresarios y equipos comerciales que buscan potenciar sus resultados de venta durante la temporada navideña\, optimizando estrategias\, habilidades y acciones para cerrar el año con éxito. \n  \n  \n¿No sabes cómo inscribirte en la plataforma? \nTranquilo\, Guíate con un video tutórela que te ayudara solo dale click en Video tutóreal \n  \n  \nMAS INFORMACIÓN
URL:https://web.ccbun.org/evento/haz-que-la-ia-trabaje-por-ti-herramientas-practicas-para-tu-negocio/
CATEGORIES:Capacitaciones,Virtual,Webinar
ATTACH;FMTTYPE=image/jpeg:https://web.ccbun.org/wp-content/uploads/2025/11/Haz-que-la-IA-trabaje-por-ti-herramientas.jpeg
END:VEVENT
END:VCALENDAR