BEGIN:VCALENDAR
VERSION:2.0
PRODID:-//Cámara de Comercio de Buenaventura - ECPv6.0.7.1//NONSGML v1.0//EN
CALSCALE:GREGORIAN
METHOD:PUBLISH
X-ORIGINAL-URL:https://web.ccbun.org
X-WR-CALDESC:Eventos para Cámara de Comercio de Buenaventura
REFRESH-INTERVAL;VALUE=DURATION:PT1H
X-Robots-Tag:noindex
X-PUBLISHED-TTL:PT1H
BEGIN:VTIMEZONE
TZID:America/Bogota
BEGIN:STANDARD
TZOFFSETFROM:-0500
TZOFFSETTO:-0500
TZNAME:-05
DTSTART:20260101T000000
END:STANDARD
END:VTIMEZONE
BEGIN:VEVENT
DTSTART;VALUE=DATE:20260128
DTEND;VALUE=DATE:20260314
DTSTAMP:20260419T182541
CREATED:20260205T212109Z
LAST-MODIFIED:20260205T212109Z
UID:1983-1769558400-1773446399@web.ccbun.org
SUMMARY:Inscripciones Ruta Yarú: el impulso que tu negocio estaba esperando
DESCRIPTION:¿Qué es Ruta Yarú?\nRuta Yarú es un programa de fortalecimiento empresarial que brinda acompañamiento integral a emprendedores y empresarios\, ayudándolos a crecer\, estructurar y proyectar su negocio de manera sostenible. \nAquí no caminas solo: recibes apoyo real para tomar mejores decisiones y avanzar con respaldo técnico. \n¿Qué incluye el programa?\n\n\n🎓 Capacitaciones presenciales y virtuales \n\n\n🤝 Asesorías empresariales personalizadas \n\n\n🔗 Conexiones comerciales que sí generan oportunidades \n\n\n📈 Herramientas prácticas para fortalecer tu negocio \n\n\n  \n¿A quién está dirigido?\nEste programa está dirigido a: \n\n\nPersonas emprendedoras mayores de 18 años \n\n\nCon un negocio de mínimo 6 meses de operación \n\n\nQue el negocio sea su principal fuente de ingresos \n\n\nCon nivel de escolaridad hasta técnico \n\n\n\n Perfil requerido\nPara participar debes contar con: \n\n\n✍️ Habilidades básicas de lectoescritura \n\n\n💻 Conocimientos básicos en herramientas ofimáticas \n\n\n📱 Manejo de dispositivos para navegar\, buscar información y adjuntar archivos \n\n\n📲 Dispositivo tecnológico (celular\, tableta\, computador o portátil) \n\n\n🌐 Acceso a internet \n\n\n⏰ Disponibilidad de tiempo para cumplir con el programa \n\n\n\n ¿Por qué hacer parte de Ruta Yarú?\n\n\nNo es solo teoría: es acompañamiento real \n\n\nAprendes haciendo\, con expertos \n\n\nConectas con oportunidades que impulsan tu negocio \n\n\nFortaleces tu emprendimiento para crecer de verdad \n\n\nInscripción\nDa el paso hoy y empieza a transformar tu negocio. \n👉 Inscribirme ahora:🔗 https://forms.gle/XmN2cWnmx6jaWP9s8
URL:https://web.ccbun.org/evento/inscripciones-ruta-yaru-el-impulso-que-tu-negocio-estaba-esperando/
CATEGORIES:Capacitaciones,Presencial
ATTACH;FMTTYPE=image/png:https://web.ccbun.org/wp-content/uploads/2026/02/1.png
END:VEVENT
BEGIN:VEVENT
DTSTART;VALUE=DATE:20260201
DTEND;VALUE=DATE:20260301
DTSTAMP:20260419T182541
CREATED:20260209T152458Z
LAST-MODIFIED:20260209T152458Z
UID:1989-1769904000-1772323199@web.ccbun.org
SUMMARY:Liderazgo en tiempos de Inteligencia Artificial\, curso virtual
DESCRIPTION:Lugar: Campus Virtual\nCosto: Gratuito\nIntensidad: 4 Hr.\nHorario: Asincrónico\nlink:Inscríbete aquí \n  \nObjetivo general \nEn este curso aprenderás a liderar de manera efectiva a los equipos de trabajo en un entorno de IA. \nObjetivos Específicos \n\nComprender la Inteligencia Artificial (IA)\nDesarrollar Habilidades de Liderazgo Adaptativo\nFomentar Habilidades Estratégicas\nPromover la Ética en la Implementación de IA\nMejorar las Habilidades de Comunicación\nFomentar un Enfoque de Desarrollo Continuo\nAplicación Práctica del Conocimiento\n\n  \nPúblico \nEmprendedores\, empresarios y profesionales interesados en aprender a liderar efectivamente a sus equipos de trabajo en la era de la inteligencia artificial\, interesados en innovación\, liderazgo\, creatividad y desarrollo de competencias socioemocionales en torno al crecimiento personal y profesional de aquellos que hacen parte de su ecosistema profesional. \n  \n  \n¿No sabes cómo inscribirte en la plataforma? \nTranquilo\, Guíate con un video tutórela que te ayudara solo dale click en Video tutóreal \n  \n  \nMAS INFORMACIÓN
URL:https://web.ccbun.org/evento/liderazgo-en-tiempos-de-inteligencia-artificial-curso-virtual-6/
CATEGORIES:Capacitaciones,Virtual
ATTACH;FMTTYPE=image/png:https://web.ccbun.org/wp-content/uploads/2026/02/Diseno-sin-titulo-4.png
END:VEVENT
BEGIN:VEVENT
DTSTART;VALUE=DATE:20260201
DTEND;VALUE=DATE:20260301
DTSTAMP:20260419T182541
CREATED:20260209T153419Z
LAST-MODIFIED:20260209T153419Z
UID:2002-1769904000-1772323199@web.ccbun.org
SUMMARY:Fotografía básica para empresarios y emprendedores\, Curso virtual
DESCRIPTION:Lugar: Campus Virtual\nCosto: Gratuito\nIntensidad: 1 Hr.\nHorario: Sincrónico\nlink:Inscríbete aquí \n  \nObjetivo general \nAprende sobre mandos\, conceptos\, técnicas y trucos fotográficos con tu celular para llevar tu negocio o marca personal a otro nivel\, dominando la exposición\, la composición y su correcta aplicación en fotografía. \nObjetivos Específicos \n\nCómo hacer buenas fotografías con luz natural.\nCongelar el movimiento.\nEfecto fantasmal del movimiento (uso del trípode). Fotografía nocturna.\nComposición.\nExposición.\nTipos de fotografía: paisaje\, arquitectura\, retrato\, producto.\n\n\n  \n  \n¿No sabes cómo inscribirte en la plataforma? \nTranquilo\, Guíate con un video tutórela que te ayudara solo dale click en Video tutóreal \n  \n  \nMAS INFORMACIÓN
URL:https://web.ccbun.org/evento/fotografia-basica-para-empresarios-y-emprendedores-curso-virtual-2/
CATEGORIES:Capacitaciones,Virtual
ATTACH;FMTTYPE=image/png:https://web.ccbun.org/wp-content/uploads/2026/02/WA_FOTOGRAFIA.png
END:VEVENT
BEGIN:VEVENT
DTSTART;VALUE=DATE:20260201
DTEND;VALUE=DATE:20260301
DTSTAMP:20260419T182541
CREATED:20260209T162942Z
LAST-MODIFIED:20260209T162942Z
UID:2004-1769904000-1772323199@web.ccbun.org
SUMMARY:Guía de WhatsApp para tu negocio
DESCRIPTION:Lugar: Campus Virtual\nCosto: Gratuito\nIntensidad: 3 Hr.\nHorario: Sincrónico\nlink:Inscríbete aquí \n  \nObjetivo general \nConoce sobre la usabilidad de WhatsApp Business para todo tipo de negocios\, convirtiéndola  en un canal  de comunicación estratégico para el aterrizaje del cliente. \nObjetivos Específicos \n\nMódulo 1: Iniciación de WhatsApp Business\nMódulo 2: Configuración de tu empresa en WhatsApp Business\n\n  \nPúblico \nEmpresarios y emprendedores que quieren poner en marcha su WhatsApp Business \n  \n  \n¿No sabes cómo inscribirte en la plataforma? \nTranquilo\, Guíate con un video tutórela que te ayudara solo dale click en Video tutóreal \n  \n  \nMAS INFORMACIÓN
URL:https://web.ccbun.org/evento/guia-de-whatsapp-para-tu-negocio-5/
CATEGORIES:Capacitaciones,Virtual
END:VEVENT
BEGIN:VEVENT
DTSTART;VALUE=DATE:20260201
DTEND;VALUE=DATE:20260301
DTSTAMP:20260419T182541
CREATED:20260209T163353Z
LAST-MODIFIED:20260209T163417Z
UID:2006-1769904000-1772323199@web.ccbun.org
SUMMARY:Transformación Digital para Empresas (CIPE)\, Curso Virtual
DESCRIPTION:Lugar: Campus Virtual\nCosto: Gratuito\nIntensidad: 4 Hrs.\nHorario: Asincrónico\nlink:Inscríbete aquí \n  \nObjetivo general \nFormar a los empresarios en los primeros pasos de la transformación digital\, proporcionando las herramientas necesarias para desarrollar una estrategia de marketing digital\, crear una tienda en línea\, tomar decisiones basadas en datos y detectar oportunidades de crecimiento para digitalizar y expandir su negocio. \nObjetivos Específicos \n\nEnseñar a los empresarios cómo desarrollar y aplicar una estrategia de marketing digital efectiva para mejorar la visibilidad y competitividad de su empresa en el entorno digital.\nGuiar a los participantes en la creación y gestión de una tienda en línea\, facilitando su entrada al comercio electrónico.\nCapacitar en el uso de herramientas y métricas basadas en datos para tomar decisiones estratégicas que impulsen el éxito y crecimiento del negocio.\nIdentificar y aprovechar oportunidades de transformación digital para aumentar la eficiencia y rentabilidad de la empresa.\nProporcionar los conocimientos necesarios para continuar la transformación digital de la empresa\, asegurando su sostenibilidad e innovación a largo plazo.\n\n  \nPúblico \nEmpresarios que buscan dar sus primeros pasos en la transformación digital de sus negocios. Está dirigido a personas que desean adquirir los conocimientos y habilidades necesarios para desarrollar una estrategia de marketing digital efectiva\, crear una tienda en línea\, tomar decisiones fundamentadas en datos y detectar nuevas oportunidades de crecimiento\, con el fin de digitalizar y expandir su empresa en el entorno digital. \n  \n  \n¿No sabes cómo inscribirte en la plataforma? \nTranquilo\, Guíate con un video tutórela que te ayudara solo dale click en Video tutóreal \n  \n  \nMAS INFORMACIÓN
URL:https://web.ccbun.org/evento/transformacion-digital-para-empresas-cipe-curso-virtual/
CATEGORIES:Capacitaciones,Virtual
END:VEVENT
BEGIN:VEVENT
DTSTART;VALUE=DATE:20260201
DTEND;VALUE=DATE:20260301
DTSTAMP:20260419T182541
CREATED:20260209T163934Z
LAST-MODIFIED:20260209T163934Z
UID:2009-1769904000-1772323199@web.ccbun.org
SUMMARY:Diseño a tu Alcance en Canva Versión\, Curso Virtual
DESCRIPTION:Lugar: Campus Virtual\nCosto: Gratuito\nIntensidad: 1 Hr.\nHorario: Sincrónico\nlink:Inscríbete aquí \n  \nObjetivo general \nAprenderás a crear diseños gráficos con apariencia profesional. Con este curso actualizado de Canva 2025\, no solo dominarás la herramienta\, también entenderás cómo aplicar principios de marketing\, diseño gráfico y escritura persuasiva para que cada pieza que hagas conecte\, comunique y logre resultados reales. \nObjetivos Específicos \n1. Habilitar a los participantes para utilizar herramientas de inteligencia artificial actualizadas en Canva\, permitiendo la creación rápida y optimizada de contenido visual y multimedia adaptado a las necesidades empresariales. \n2. Fortalecer las habilidades de los participantes en la aplicación de fundamentos de diseño mediante nuevas funciones dinámicas\, asegurando diseños efectivos y alineados con principios de psicología visual. \n3. Proporcionar a los participantes conocimientos prácticos sobre herramientas de marketing y redacción persuasiva en Canva\, optimizando la comunicación con audiencias segmentadas y motivando acciones específicas de los clientes. \n  \nPúblico \nEmpresarios\, empresarias\, emprendedores y profesionales que requieran diseñar piezas promocionales para sus empresas o marca personal. No se requiere conocimiento previo sobre el tema. \n  \n  \n¿No sabes cómo inscribirte en la plataforma? \nTranquilo\, Guíate con un video tutórela que te ayudara solo dale click en Video tutóreal \n  \n  \nMAS INFORMACIÓN
URL:https://web.ccbun.org/evento/diseno-a-tu-alcance-en-canva-version-curso-virtual/
CATEGORIES:Capacitaciones,Virtual
END:VEVENT
BEGIN:VEVENT
DTSTART;VALUE=DATE:20260201
DTEND;VALUE=DATE:20260301
DTSTAMP:20260419T182541
CREATED:20260209T165239Z
LAST-MODIFIED:20260209T165239Z
UID:2011-1769904000-1772323199@web.ccbun.org
SUMMARY:Formación Estratégica en ventas y fidelización de clientes\, Curso Virtual
DESCRIPTION:Lugar: Campus Virtual\nCosto: Gratuito\nIntensidad: 5 Hr.\nHorario: Asincrónico\nlink:Inscríbete aquí \n  \nObjetivo general \nDiseñar e implementar estrategias de formación práctica en ventas que preparen al equipo comercial para gestionar objeciones\, cerrar ventas y fidelizar clientes de manera efectiva\, sostenible y medible. \nObjetivos Específicos \n\nComprender el proceso completo de ventas\, desde la prospección hasta el cierre y la fidelización.\nDesarrollar habilidades personales que fortalezcan la autoconfianza\, la comunicación asertiva y la empatía en el proceso de ventas\nIdentificar y superar objeciones comunes y complejas de los clientes.\nAplicar técnicas de venta consultiva y emocional centradas en el cliente.\nEstablecer metas comerciales claras\, alcanzables y alineadas con los objetivos estratégicos del negocio.\n\n  \nPúblico \nVendedores\, gerentes de ventas\, emprendedores y Mipymes que buscan fortalecer el área más vital de toda empresa: las ventas. \n  \n  \n¿No sabes cómo inscribirte en la plataforma? \nTranquilo\, Guíate con un video tutórela que te ayudara solo dale click en Video tutóreal \n  \n  \nMAS INFORMACIÓN
URL:https://web.ccbun.org/evento/formacion-estrategica-en-ventas-y-fidelizacion-de-clientes-curso-virtual/
CATEGORIES:Capacitaciones,Virtual
ATTACH;FMTTYPE=image/jpeg:https://web.ccbun.org/wp-content/uploads/2026/02/Pieza-Curso-Formacion-estrategica-de-ventas-y-fidelizacion-de-clientes-CV_Mailing.jpg
END:VEVENT
BEGIN:VEVENT
DTSTART;VALUE=DATE:20260201
DTEND;VALUE=DATE:20260301
DTSTAMP:20260419T182541
CREATED:20260209T202159Z
LAST-MODIFIED:20260209T202159Z
UID:2013-1769904000-1772323199@web.ccbun.org
SUMMARY:Plan Comercial ajustado a tu negocio\, Curso Virtual
DESCRIPTION:Lugar: Campus Virtual\nCosto: Gratuito\nIntensidad: 4 Hrs.\nHorario: Asincrónico\nlink:Inscríbete aquí \n  \nObjetivo general \nCrear un plan comercial ajustado a la madurez empresarial del negocio\, acorte a la arquitectura de la empresa\, los objetivos estratégicos\, la oferta de valor y la ruta de crecimiento. Esto acompañado de la medición por indicadores de gestión que permitirán evaluar el resultado de las estrategias comerciales actuales\, el perfil del equipo\, entre otros para tomar decisiones que redunden en aumentar las ventas de sus negocios. \nObjetivos Específicos \n1.Introducción a las estrategias comerciales. \n2. Entender el público objetivo y como trazar estrategias comerciales para aumentar las ventas. \n3. Elaboración del plan comercial del negocio 4. Gestionando los resultados comerciales. \n  \n  \n¿No sabes cómo inscribirte en la plataforma? \nTranquilo\, Guíate con un video tutórela que te ayudara solo dale click en Video tutóreal \n  \n  \nMAS INFORMACIÓN
URL:https://web.ccbun.org/evento/plan-comercial-ajustado-a-tu-negocio-curso-virtual-4/
CATEGORIES:Capacitaciones,Virtual
ATTACH;FMTTYPE=image/png:https://web.ccbun.org/wp-content/uploads/2026/02/plan-comercial.png
END:VEVENT
BEGIN:VEVENT
DTSTART;VALUE=DATE:20260201
DTEND;VALUE=DATE:20260301
DTSTAMP:20260419T182541
CREATED:20260209T202813Z
LAST-MODIFIED:20260209T202813Z
UID:2015-1769904000-1772323199@web.ccbun.org
SUMMARY:Gestión del dinero en Excel: Presupuestos\, Curso Virtual
DESCRIPTION:Lugar: Campus Virtual\nCosto: Gratuito\nIntensidad: 4 Hrs.\nHorario: Asincrónico\nlink:Inscríbete aquí \n  \nObjetivo general \nAprender a construir en Excel un presupuesto de ingresos y gastos y a hacerle seguimiento a su ejecución para fortalecer las capacidades de manejo de esta herramienta de una manera sencilla y práctica\, así como a controlar uno de los recursos más valiosos de la Pyme. \nObjetivos Específicos \n\nConocer los principios básicos de gestión presupuestal.\nDesarrollar en Excel una plantilla para construir el presupuesto de ingresos y gastos de la PYME.\nAprender a medir en Excel la ejecución presupuestal de la empresa.\n\n  \nPúblico \nGerentes\, líderes de equipos de trabajo de cualquier área\, Psicólogos Organizacionales\, profesionales de Mejoramiento Continuo\, profesionales de Calidad \, profesionales de Planeación\, emprendedores\, empresarios que deseen fortalecer sus conocimientos en diseño de herramientas de planeación en Excel que estén iniciando a fortalecer sus competencias en este programa. \nSe requieren conocimientos básicos de Excel\, las herramientas son para desarrollar competencias de niveles básico e intermedio. \n  \n  \n¿No sabes cómo inscribirte en la plataforma? \nTranquilo\, Guíate con un video tutórela que te ayudara solo dale click en Video tutóreal \n  \n  \nMAS INFORMACIÓN
URL:https://web.ccbun.org/evento/gestion-del-dinero-en-excel-presupuestos-curso-virtual/
CATEGORIES:Capacitaciones,Virtual
ATTACH;FMTTYPE=image/jpeg:https://web.ccbun.org/wp-content/uploads/2026/02/Gestion-del-dinero-en-Excel-Presupuestos-wh-1.jpg
END:VEVENT
BEGIN:VEVENT
DTSTART;VALUE=DATE:20260201
DTEND;VALUE=DATE:20260301
DTSTAMP:20260419T182541
CREATED:20260209T204308Z
LAST-MODIFIED:20260209T204308Z
UID:2017-1769904000-1772323199@web.ccbun.org
SUMMARY:Autenticidad femenina " El nuevo liderazgo empresarial"\, Curso Virtual
DESCRIPTION:Lugar: Campus Virtual\nCosto: Gratuito\nIntensidad: 4 Hrs.\nHorario: Sincrónico\nlink:Inscríbete aquí \n  \nObjetivo general \nFortalecer el liderazgo personal y empresarial de mujeres emprendedoras y empresarias\, reconociendo su historia\, esencia y cultura\, desarrollando habilidades conscientes que conecten su ser con su rol\, para liderar con autenticidad\, impacto e influencia. \nObjetivos Específicos \n• Conectar con la historia y esencia individual como base del liderazgo auténtico.\n• Reconocer las fortalezas femeninas como herramientas clave de liderazgo.\n• Desarrollar habilidades de comunicación\, imagen e influencia alineadas al propósito personal y empresarial.\n• Aplicar estrategias prácticas que fortalezcan el empoderamiento\, la toma de decisiones y la gestión emocional. \n  \nPúblico \nVendedores\, gerentes de ventas\, emprendedores y Mipymes que buscan fortalecer el área más vital de toda empresa: las ventas. \n  \n  \n¿No sabes cómo inscribirte en la plataforma? \nTranquilo\, Guíate con un video tutórela que te ayudara solo dale click en Video tutóreal \n  \n  \nMAS INFORMACIÓN
URL:https://web.ccbun.org/evento/autenticidad-femenina-el-nuevo-liderazgo-empresarial-curso-virtual/
CATEGORIES:Capacitaciones,Virtual
END:VEVENT
BEGIN:VEVENT
DTSTART;VALUE=DATE:20260201
DTEND;VALUE=DATE:20260301
DTSTAMP:20260419T182541
CREATED:20260209T205320Z
LAST-MODIFIED:20260209T205320Z
UID:2019-1769904000-1772323199@web.ccbun.org
SUMMARY:Cómo utilizar ChatGPT para tu proceso de ventas\, Curso Virtual
DESCRIPTION:Lugar: Campus Virtual\nCosto: Gratuito\nIntensidad: 1 Hr.\nHorario: Asincrónico\nlink:Inscríbete aquí \n  \nObjetivo general \nAplicar herramientas de inteligencia artificial\, especialmente ChatGPT\, para optimizar el proceso comercial en ventas B2B y B2C\, desde la prospección hasta el cierre. \nObjetivos Específicos \n\nReconocer la importancia de alinear los contenidos digitales orgánicos con los objetivos comerciales.\nIdentificar cómo se alinean las metas comerciales con los contenidos digitales orgánicos propuestos.\nComprender la importancia de los públicos y su comportamiento digital para la planeación de contenidos.\nConocer las fases para diseñar un calendario de contenidos estratégicos.\nExplorar ejemplos y buenas prácticas de contenido orgánico desarrollado por algunas marcas.\n\n  \nPúblico \nVendedores\, emprendedores\, equipos comerciales\, y dueños de negocio que quieren vender mejor. \n  \n  \n¿No sabes cómo inscribirte en la plataforma? \nTranquilo\, Guíate con un video tutórela que te ayudara solo dale click en Video tutóreal \n  \n  \nMAS INFORMACIÓN
URL:https://web.ccbun.org/evento/como-utilizar-chatgpt-para-tu-proceso-de-ventas-curso-virtual/
CATEGORIES:Capacitaciones,Virtual
END:VEVENT
BEGIN:VEVENT
DTSTART;VALUE=DATE:20260201
DTEND;VALUE=DATE:20260301
DTSTAMP:20260419T182541
CREATED:20260209T210005Z
LAST-MODIFIED:20260209T210005Z
UID:2021-1769904000-1772323199@web.ccbun.org
SUMMARY:Creación de Marca con IA\, Curso Virtual
DESCRIPTION:Lugar: Campus Virtual\nCosto: Gratuito\nIntensidad: 1 Hr.\nHorario: Asincrónico\nlink:Inscríbete aquí \n  \nObjetivo general \nConstruir desde cero y paso a paso una marca de la mano de herramientas de IA de forma auténtica\, rápida y profesional\, incluso si no existe experiencia previa en diseño o marketing. \n  \nObjetivos Específicos \n1. Comprender qué es una marca y cómo la IA puede facilitar su construcción. \n2. Definir propósito\, misión\, visión y valores usando prompts inteligentes. \n3. Crear elementos visuales como logos\, paletas de color y tipografías con IA. \n4. Definir tono de comunicación y generar contenidos con IA. \n5. Garantizar consistencia de marca y automatizar procesos con IA. \n  \n  \n¿No sabes cómo inscribirte en la plataforma? \nTranquilo\, Guíate con un video tutórela que te ayudara solo dale click en Video tutóreal \n  \n  \nMAS INFORMACIÓN
URL:https://web.ccbun.org/evento/creacion-de-marca-con-ia-curso-virtual/
CATEGORIES:Capacitaciones,Virtual
END:VEVENT
BEGIN:VEVENT
DTSTART;VALUE=DATE:20260201
DTEND;VALUE=DATE:20260301
DTSTAMP:20260419T182541
CREATED:20260209T210725Z
LAST-MODIFIED:20260209T210725Z
UID:2023-1769904000-1772323199@web.ccbun.org
SUMMARY:Introducción a la gestión Laboral - administrativa\, Curso virtual
DESCRIPTION:Lugar: Campus Virtual\nCosto: Gratuito\nIntensidad: 4 Hrs.\nHorario: Asincrónico\nlink:Inscríbete aquí \n  \nObjetivo general \n\n\nFacilitar los conceptos\, leyes\, normas y demás conocimientos que le permitan a los asistentes gestionar de manera efectiva la administración del talento humano de la empresa\,  para cumplir con lo establecido en la legislación colombiana y evitar que las empresas incurran en incumplimientos que representen pérdidas económicas y afectación negativa de su imagen y reputación. \n\n\n\nObjetivos Específicos \n\nIdentificar las tipos de contratos laborales existentes y las reglas aplicables a cada clasificación.​\nConocer el Sistema de Seguridad Social en Colombia y sus componentes: pensiones\, salud y riesgos laborales\, así como parafiscales Caja de Compensación familiar\, ICBF y SENA.​\nDeterminar los riesgos asociados a los pagos de seguridad social del personal\, relacionados con las funciones de la Unidad de Gestión Pensional y Parafiscales( UGPP).​\nComprender la importancia del manejo del Talento Humano y sus componentes documentales y procedimentales frente a gestión de incapacidades\, salud ocupacional\, bienestar y relacionados.​\nAplicar las herramientas legales para mantener el control disciplinario de los trabajadores. \n\n  \nPúblico \nEste Curso asincrónico está dirigido a empresarios\, emprendedores y/o personas independientes a nivel nacional\, que deseen tener una profundización y actualización frente a lo que implican los procesos de Gestión Legal\, Laboral y Administrativa en sus empresas y emprendimientos\, desde una enseñanza práctica y efectiva\, en corto tiempo\,  que facilite su implementación.  \n  \n  \n¿No sabes cómo inscribirte en la plataforma? \nTranquilo\, Guíate con un video tutórela que te ayudara solo dale click en Video tutóreal \n  \n  \nMAS INFORMACIÓN
URL:https://web.ccbun.org/evento/introduccion-a-la-gestion-laboral-administrativa-curso-virtual/
CATEGORIES:Capacitaciones,Virtual
ATTACH;FMTTYPE=image/jpeg:https://web.ccbun.org/wp-content/uploads/2026/02/Introduccion-a-la-gestion-Laboral_editado_30-dias.jpg
END:VEVENT
BEGIN:VEVENT
DTSTART;VALUE=DATE:20260201
DTEND;VALUE=DATE:20260301
DTSTAMP:20260419T182541
CREATED:20260209T211419Z
LAST-MODIFIED:20260209T211450Z
UID:2025-1769904000-1772323199@web.ccbun.org
SUMMARY:Crea un perfil vendedor para tu marca en Facebook e Instagram\, Curso virtual
DESCRIPTION:Lugar: Campus Virtual\nCosto: Gratuito\nIntensidad: 3 Hrs.\nHorario: Asincrónico\nlink:Inscríbete aquí \n  \nObjetivo general \nDesarrollo de un perfil empresarial en Facebook e Instagram que incremente el posicionamiento de la marca y el reconocimiento en todos los sectores empresariales. \n  \nPúblico \nEmpresarios\, emprendedores\, directores y  administradores que buscan en las redes sociales un canal de ventas y mercadeo para posicionar su empresa y marca en el nuevo entorno empresarial. \n  \n  \n¿No sabes cómo inscribirte en la plataforma? \nTranquilo\, Guíate con un video tutórela que te ayudara solo dale click en Video tutóreal \n  \n  \nMAS INFORMACIÓN
URL:https://web.ccbun.org/evento/crea-un-perfil-vendedor-para-tu-marca-en-facebook-e-instagram-curso-virtual-2/
CATEGORIES:Capacitaciones,Virtual
ATTACH;FMTTYPE=image/jpeg:https://web.ccbun.org/wp-content/uploads/2026/02/crea-un-perfil_editado_30-dias.jpg
END:VEVENT
BEGIN:VEVENT
DTSTART;VALUE=DATE:20260201
DTEND;VALUE=DATE:20260301
DTSTAMP:20260419T182541
CREATED:20260209T211749Z
LAST-MODIFIED:20260209T211749Z
UID:2028-1769904000-1772323199@web.ccbun.org
SUMMARY:Presencia en redes sociales\, Curso virtual
DESCRIPTION:Lugar: Campus Virtual\nCosto: Gratuito\nIntensidad: 10 Hrs.\nHorario: Asincrónico\nlink:Inscríbete aquí \n  \nObjetivo general \nGenera tu presencia en redes de manera estructurada para estar a nivel competitivo de las grandes empresas que tienen éxito en Internet \nObjetivos Específicos \n\nConocer mis objetivos empresariales\nConocer mi segmento de clientes\nDefinir ¿Cómo monetizo?\nDefinir mi estrategia de mercadeo\nSeleccionar la redes en las que quiero incursionar\nDefinir los contenidos que voy a usar\nConstruir los contenidos definidos\nProgramar la publicación de contenidos\nAnalizar los resultados\n\n  \nPúblico \nPersonas naturales que ya tengan su negocio en redes sociales.\nPersonas que cuenten con una marca personal y que quieran tener o tengan presencia en redes sociales.\nUniversitarios que estén interesados en aprender buenas prácticas para tener presencia en redes sociales.\nProfesiones afines: comunicación social\, publicidad\, mercadeo. Sin embargo\, todas las personas que estén interesadas en aprender buenas prácticas para mejorar su presencia en redes sociales. \n  \n  \n¿No sabes cómo inscribirte en la plataforma? \nTranquilo\, Guíate con un video tutórela que te ayudara solo dale click en Video tutóreal \n  \n  \nMAS INFORMACIÓN
URL:https://web.ccbun.org/evento/presencia-en-redes-sociales-curso-virtual-4/
CATEGORIES:Capacitaciones,Virtual
ATTACH;FMTTYPE=image/png:https://web.ccbun.org/wp-content/uploads/2026/02/Presencia-en-redes-sociales.png
END:VEVENT
BEGIN:VEVENT
DTSTART;VALUE=DATE:20260201
DTEND;VALUE=DATE:20260301
DTSTAMP:20260419T182541
CREATED:20260209T212623Z
LAST-MODIFIED:20260209T212623Z
UID:2030-1769904000-1772323199@web.ccbun.org
SUMMARY:Herramientas para diseñar y crear contenidos para redes sociales\, Curso virtual
DESCRIPTION:Lugar: Campus Virtual\nCosto: Gratuito\nIntensidad: 7 Hrs.\nHorario: Asincrónico\nlink:Inscríbete aquí \n  \nObjetivo general \nA través de este curso recibirás las herramientas necesarias para expresar visualmente y de una manera efectiva\, los beneficios de tu producto en las redes sociales. \nObjetivos Específicos \n\nPlanear los contenidos a partir de la oferta de valor\nAplicar las Pautas de diseño gráfico en sus contenidos\nAplicar las Pautas de texto en sus contenidos\nConocer las Herramientas mas usadas de creación y búsqueda de recursos en Internet\nEnumerar los contenidos a partir de la oferta de valor de mi marca\nIdentificar los Momentos de más ventas en el año\nPlanear mes a mes mi contenido\nDistinguir las ventajas y beneficios de Herramientas de edición Gráfica en Internet\n\n  \nPúblico \n\n\nPersonas naturales que ya tengan su negocio en redes sociales.\nPersonas que cuenten con una marca personal y que ya tenga presencia en redes sociales.\nUniversitarios que estén interesados en aprender buenas prácticas para hacer contenidos impactantes para las redes sociales.\nProfesiones afines: comunicación social\, publicidad\, mercadeo. Sin embargo\, todas las personas que estén interesadas en aprender buenas prácticas para mejorar sus contenidos en redes\, y que no necesariamente sean profesionales en estos campos\, pueden tomar el taller.\nDeben tener conocimiento o requisitos previos mínimos\, como tener una red social abierta\, conocimiento de su modelo de negocio y su oferta de valor. \n\n\n  \n  \n¿No sabes cómo inscribirte en la plataforma? \nTranquilo\, Guíate con un video tutórela que te ayudara solo dale click en Video tutóreal \n  \n  \nMAS INFORMACIÓN
URL:https://web.ccbun.org/evento/herramientas-para-disenar-y-crear-contenidos-para-redes-sociales-curso-virtual/
CATEGORIES:Capacitaciones,Virtual
ATTACH;FMTTYPE=image/jpeg:https://web.ccbun.org/wp-content/uploads/2026/02/Herramientas-para-crear_editado_30-dias.jpg
END:VEVENT
BEGIN:VEVENT
DTSTART;VALUE=DATE:20260201
DTEND;VALUE=DATE:20260301
DTSTAMP:20260419T182541
CREATED:20260209T213154Z
LAST-MODIFIED:20260209T213154Z
UID:2032-1769904000-1772323199@web.ccbun.org
SUMMARY:Excel básico\, Curso Virtual
DESCRIPTION:Lugar: Campus Virtual\nCosto: Gratuito\nIntensidad: 4 Hrs.\nHorario: Asincrónico\nlink:Inscríbete aquí \n  \nObjetivo general \nEn este curso aprenderás desde lo conceptual y práctico a manejar Excel básico para fortalecer las capacidades de manejo de esta herramienta de una manera sencilla y práctica. \nObjetivos Específicos \n\nAdquirir conocimiento básico del uso de Excel.\nObtener conocimientos respecto al desarrollo de cálculos básicos en Excel.\nAdquirir el conocimiento para hacer uso de tablas en Excel.\nConocer el uso de funcionalidades y fórmulas complementarias de Excel.\n\n  \nPúblico \nGerentes\, líderes de equipos de trabajo de cualquier área\, Psicólogos Organizacionales\, profesionales de Mejoramiento Continuo\, profesionales de Calidad\, profesionales de Planeación\, emprendedores\, empresarios que deseen fortalecer sus conocimientos en diseño de herramientas de planeación en Excel que estén iniciando a fortalecer sus competencias en este programa. Se requieren conocimientos básicos de Excel\, las herramientas son para desarrollar competencias de niveles básico e intermedio. \n  \n  \n¿No sabes cómo inscribirte en la plataforma? \nTranquilo\, Guíate con un video tutórela que te ayudara solo dale click en Video tutóreal \n  \n  \nMAS INFORMACIÓN
URL:https://web.ccbun.org/evento/excel-basico-curso-virtual-7/
CATEGORIES:Capacitaciones,Virtual
END:VEVENT
END:VCALENDAR