BEGIN:VCALENDAR
VERSION:2.0
PRODID:-//Cámara de Comercio de Buenaventura - ECPv6.0.7.1//NONSGML v1.0//EN
CALSCALE:GREGORIAN
METHOD:PUBLISH
X-ORIGINAL-URL:https://web.ccbun.org
X-WR-CALDESC:Eventos para Cámara de Comercio de Buenaventura
REFRESH-INTERVAL;VALUE=DURATION:PT1H
X-Robots-Tag:noindex
X-PUBLISHED-TTL:PT1H
BEGIN:VTIMEZONE
TZID:America/Bogota
BEGIN:STANDARD
TZOFFSETFROM:-0500
TZOFFSETTO:-0500
TZNAME:-05
DTSTART:20230101T000000
END:STANDARD
END:VTIMEZONE
BEGIN:VEVENT
DTSTART;TZID=America/Bogota:20230721T150000
DTEND;TZID=America/Bogota:20230721T160000
DTSTAMP:20260419T190333
CREATED:20230718T205304Z
LAST-MODIFIED:20230718T205304Z
UID:770-1689951600-1689955200@web.ccbun.org
SUMMARY:El Kit Esencial del Emprendedor
DESCRIPTION:Lugar: Auditorio Camara de comercio de Buenaventura\nCosto: Gratuito\nIntensidad: 1 Hr.\nHorario: sincrónico\nlink: Incríbete aquí \n 
URL:https://web.ccbun.org/evento/el-kit-esencial-del-emprendedor/
CATEGORIES:Presencial
ATTACH;FMTTYPE=image/jpeg:https://web.ccbun.org/wp-content/uploads/2023/07/WhatsApp-Image-2023-07-17-at-3.33.09-PM.jpeg
END:VEVENT
END:VCALENDAR