BEGIN:VCALENDAR
VERSION:2.0
PRODID:-//Cámara de Comercio de Buenaventura - ECPv6.0.7.1//NONSGML v1.0//EN
CALSCALE:GREGORIAN
METHOD:PUBLISH
X-ORIGINAL-URL:https://web.ccbun.org
X-WR-CALDESC:Eventos para Cámara de Comercio de Buenaventura
REFRESH-INTERVAL;VALUE=DURATION:PT1H
X-Robots-Tag:noindex
X-PUBLISHED-TTL:PT1H
BEGIN:VTIMEZONE
TZID:America/Bogota
BEGIN:STANDARD
TZOFFSETFROM:-0500
TZOFFSETTO:-0500
TZNAME:-05
DTSTART:20240101T000000
END:STANDARD
END:VTIMEZONE
BEGIN:VEVENT
DTSTART;TZID=America/Bogota:20240416T150000
DTEND;TZID=America/Bogota:20240416T170000
DTSTAMP:20260419T080118
CREATED:20240402T145746Z
LAST-MODIFIED:20240402T150817Z
UID:1415-1713279600-1713286800@web.ccbun.org
SUMMARY:Resgistro Nacional de Turismo
DESCRIPTION:Lugar: Auditorio Cámara de Comercio Buenaventura\nCosto: Gratuito\nIntensidad: 2 Hrs.\nHorario: sincrónico \n  \nINSCRÍBETE AQUÍ 
URL:https://web.ccbun.org/evento/resgistro-nacional-de-turismo/
CATEGORIES:Capacitaciones,Presencial
ATTACH;FMTTYPE=image/jpeg:https://web.ccbun.org/wp-content/uploads/2024/04/resgistro-nacional-de-turismo.jpeg
END:VEVENT
END:VCALENDAR